Workbook
Name Grade_1: '2015'!$B$2
Name Grade_10: '2015'!$B$11:$T$11
Name Grade_11: '2015'!$B$12:$T$12
Name Grade_12: '2015'!$B$13:$T$13
Name Grade_13: '[1]2015'!$B$14:$T$14+'[1]2015'!$B$14:$T$14
Name Grade_13: '[1]2015'!$B$14:$T$14+'[1]2015'!$B$14:$T$14
Name Grade_13: '[1]2015'!$B$14:$T$14+'[1]2015'!$B$14:$T$14
Name Grade_13: '[1]2015'!$B$14:$T$14+'[1]2015'!$B$14:$T$14
Name Grade_13: '2015'!$B$14:$T$14
Name Grade_14: '2015'!$B$15:$T$15
Name Grade_15: '2015'!$B$16:$T$16
Name Grade_16: '2015'!$B$17:$T$17
Name Grade_17: '2015'!$B$18:$T$18
Name Grade_18: '2015'!$B$19:$T$19
Name Grade_19: '2015'!$B$20:$T$20
Name Grade_2: '2015'!$B$3:$F$3
Name Grade_20: '2015'!$B$21:$T$21
Name Grade_3: '2015'!$B$4:$I$4
Name Grade_4: '2015'!$B$5:$K$5
Name Grade_5: '2015'!$B$6:$M$6
Name Grade_6: '2015'!$B$7:$O$7
Name Grade_7: '2015'!$B$8:$R$8
Name Grade_8: '2015'!$B$9:$T$9
Name Grade_9: '2015'!$B$10:$T$10

Sheet Instructions
A2: RvZxq †eZb †¯‹j 2026 Abyhvqx ‡eZb wba©viY dig (†c-wd‡·kb) c~i‡Yi wbqgvejxt
A3: Form: A | B3: 1g n‡Z 9g †MÖW ch©šÍ wkÿK,Kg©KZ©v I Kg©Pvix‡`i ‡eZb wba©viY (†c-wd‡·kb) dig|
A4: Form: B | B4: 10g n‡Z 20Zg †MÖW ch©šÍ Kg©KZ©v I Kg©Pvix‡`i ‡eZb wba©viY (†c-wd‡·kb) dig|
A5: Form: C | B5: RyjvBÕ26 n‡Z †m‡Þ¤^iÕ26 gv‡mi e‡Kqv ‡eZb dig|
A6: ‡eZb wba©viY (†c-wd‡·kb) wbqgvejxt
A7: 1| | B7: †c-wd‡·kb di‡gi µwgK 01 n‡Z 6 Gi Z_¨vw` mKj wkÿK,Kg©KZ©v I Kg©PvixMb c~iY Ki‡eb|
A8: 2| | B8: ‡eZb wba©viY (†c-wd‡·kb) di‡gi Wvbcv‡k^© †`qv †eZb †MÖW e· n‡Z †eZb †MÖW wm‡j±/ wba©viY Ki‡eb|
A9: 3| | B9: Wvbcv‡k^© †`qv g~j †eZb wba©viYx e· n‡Z †eZb †MÖW Abyhvqx 30/6/2026 wLª. Zvwi‡Li g~j †eZb wm‡j±/wba©viY Ki‡eb
A10: 4| | B10: Kg©¯’j wm‡j±/wba©viY Ki‡eb|
A11: 5| | B11: †c-wd‡·kb di‡gi Aewkó KvR ¯^qswµqfv‡e m¤úvw`Z n‡e|
A12: 6| | B12: †c-wd‡·kb m¤úbœ nIqvi ci wjM¨vj KvM‡R dig wcÖ›U wb‡q ¯^ ¯^ ¯^vÿi I mxj w`‡q AvMvgx 13 A‡±veiÕ26 g‡a¨ A_© I wnmve Awd‡mi †eZb wej kvLvq `vwLj Ki‡eb|
A13: 1 Rvbyqvix 2026 ZvwiL cieZx© mg‡q †hvM`vbK…Z wkÿK, Kg©KZ©v I Kg©Pvix‡`i ‡eZb wba©viY (†c-wd‡·kb) wbqgvejxt
A14: 1| | B14: 1 RvbyqvixÕ26 cieZx© be wb‡qvMcÖvßMb wkÿK, Kg©KZ©v I Kg©PvixMb A_© I wnmve Awdm n‡Z ‡eZb wba©viY (†c-wd‡·kb) dig msMÖn K‡i c~iY Ki‡eb|
A15: 2| | B15: ‡eZb wba©viY (†c-wd‡·kb) m¤úbœ K‡i ¯^ ¯^ ¯^vÿi I mxj w`‡q AvMvgx 13 A‡±veiÕ26 g‡a¨ A_© I wnmve Awd‡m `vwLj Ki‡eb|

Sheet Form-A (1 to 9 Grade)
E1: Form-A [‡MÖWt 1g n‡Z 9g]
B2: PÆMÖvg †f‡Uwibvwi I Gwbg¨vj mvB‡Ým wek^we`¨vjq | H2: Avcbvi eZ©gvb †MÖW wm‡j± Kiæb
B4: A_© gš¿Yvj‡qi A_© wefvM (ev¯Íevqb-1 AbywefvM) Gi Gm. Avi.I bs 348-AvBb/2026, ZvwiL: 17-09-2026 g~‡j RvZxq †eZb †¯‹j 2026 Abyhvqx †eZb wba©viYx weeiYx| | H4: Grade_9
H5: 1 RvbyqvixÕ26 cieZx© be wb‡qvMcÖvß‡`i Rb¨
B6: 1| | C6: RvZxq cwiPq c‡Îi (NID) bs | D6: t
B7: 2| | C7: wkǐK/Kg©KZ©vi/Kg©Pvixi bvg I c`ex | D7: t
B8: 3| | C8: Awdm/wefvM | D8: t
B9: 4| | C9: ‡gvevBj b¤^i | D9: t | H9: 30 Ryb 2026 Gi cÖvß g~j †eZb
B10: 5| | C10: Rb¥ ZvwiL | D10: t
B11: 6| | C11: PvKzix‡Z cÖ_g †hvM`v‡bi ZvwiL | D11: t | H11: 22000
C12: K) cÖ_g †hvM`v‡bi Zvwi‡L c`ex | D12: t
C13: L) Awdm/wefvM | D13: t
C14: M) †hvM`v‡bi Zvwi‡L mvem‡UbwUf †MÖW | D14: t
B16: 7| | C16: 30/06/2026 wLª. Zvwi‡L- | H16: Kg©¯’j
C17: K) M„nxZ g~j †eZb | E17: : | F17: =H11 -> 22000
C18: L) wcwc (hw` _v‡K) | E18: : | F18: 0 | H18: চট্টগ্রাম/কক্সবাজার
C19: M) †gvU †eZb | E19: : | F19: =SUM(F17:F18) -> 22000
B20: 8| | C20: RvZxq †eZb †¯‹j-2015 Abyhvqx 30/06/2026wLª. Zvwi‡L -
C21: K) cÖvß †MÖW I †¯‹j | D21: =H4 -> Grade_9 | E21: : | F21: ='2026 Gtade list 1-9'!B7 -> (Uv: 22000-53060)
C22: L) cÖvß †MÖ‡Wi cÖviw¤¢K avc | E22: : | F22: =SUMIF('2015'!A2:B21,'Form-A (1 to 9 Grade)'!H4,'2015'!B2:B21) -> 22000
C23: M) cv_©K¨ (7M - 8L) | E23: : | F23: =F19-F22 -> 0
B24: 9| | C24: RvZxq ‡eZb †¯‹j-2026 Abyhvqx 01/07/2026wLªt Zvwi‡L -
C25: K) cÖvß †MÖW I †¯‹j | D25: =H4 -> Grade_9 | E25: : | F25: ='2026 Grade list'!B7 -> (Uv: 44000-105900)
C26: L) cÖvß †MÖ‡Wi cÖviw¤¢K avc | E26: : | F26: =SUMIF('2026'!A2:B21,'Form-A (1 to 9 Grade)'!H4,'2026'!B2:B21) -> 44000
C27: M) †gvU †eZb (8M+9L) | E27: : | F27: =F23+F26 -> 44000
B28: 10| | C28: RvZxq †eZb †¯‹j 2026 Abyhvqx mg/D”Pavc | E28: : | F28: =IF(OR(Sheet3!A24=0,Sheet3!A24=""),156000,Sheet3!A24) -> 44000
B29: 11| | C29: 01 RyjvB 2026 Zvwi‡L wba©vwiZ †eZb (10 Gi mgvb) | E29: : | F29: =F28 -> 44000
B30: 12| | C30: 01 RyjvB 2026 Zvwi‡L evwl©K †eZb e„w× (Bbwµ‡g›U) mn wba©vwiZ †eZb | E30: : | F30: =F29 -> 44000
B31: 13| | C31: ‡eZb e„w×i cwigvY (11-7) | E31: : | F31: =F29-F19 -> 22000
B32: 14| | C32: e„w×cÖvß †eZ‡bi 40% (13×40%) | E32: : | F32: =F31*40% -> 8800
B33: 15| | C33: 01 RyjvB 2026 Zvwi‡L cÖvc¨ †eZb (40% e„w× Abyhvqx) (7+14) | E33: : | F33: =F19+F32 -> 30800
B34: 16| | C34: 01 RyjvB 2026 Zvwi‡L evwl©K †eZb e„w× (Bbwµ‡g›U) mn cÖvc¨ ‡eZb (15+(12-11) | E34: : | F34: =SUM(F30-F29)+F33 -> 30800
B35: 17| | C35: 01 Rvbyqvix 2027 Zvwi‡L †eZb e„w×i 30% (13×30%) | E35: : | F35: =F31*30% -> 6600
B36: 18| | C36: 01 Rvbyqvix 2027 Zvwi‡L wba©vwiZ cÖvc¨ ‡eZb (16+17) | E36: : | F36: =F34+F35 -> 37400
B37: 19| | C37: 01 RyjvB 2027 Zvwi‡L ‡eZb e„w×i Aewkó 30% (13×30%) | E37: : | F37: =F31*30% -> 6600
B38: 20| | C38: 01 RyjvB 2027 Zvwi‡L cÖvc¨ †eZb 100% (18+19) | E38: : | F38: =F36+F37 -> 44000
B39: 21| | C39: 01 RyjvB 2027 Zvwi‡L evwl©K †eZb e„w× (Bbwµ‡g›U) mn cÖvc¨ †eZb | E39: : | F39: =IF(OR(Sheet3!B24=0,Sheet3!B24=""),156000,Sheet3!B24) -> 46200
B42: wet`ªt- †eZb wba©viYx weeiYxwU mvgwqKfv‡e †eZb wba©vi‡Yi Rb¨ †ck Kiv n‡jv| D³ †eZb wba©vibx di‡gi Av‡jv‡K AwZwi³ †eZb D‡Ëvjb Kiv n‡j †dir w`‡Z AvcwË _vK‡e bv|
D44: wkÿK/Kg©KZ©v/Kg©Pvixi ¯^v¶i I mxj
B46: A_© I wnmve Awd‡m e¨env‡ii Rb¨
B48: bs- | C48: wmfvmy/A_© I wnmve/‡eZb/Rv:‡e:‡¯‹j-26/8971 | F48: ZvwiL: 08/10/2026wLª:
C50: D³ weeiYx cix¶v Kiv nBj| RvZxq †eZb †¯‹j'2026 G 01 RyjvB 2026 wLªªt Zvwi‡L | E50: : | F50: =F38 -> 44000
C51: =F25 -> (Uv: 44000-105900) | D51: ‡¯‹‡j g~j †eZb wba©viY Kiv nBj| (12bs)
B52: 1 | C52: 01 RyjvB 2026 wLªªt n‡Z 31 wW‡m¤^i 2026wLªt ch©šÍ 40% wnmv‡e cÖvc¨ †eZb (16bs) | E52: : | F52: =F34 -> 30800
B53: 2 | C53: 01 Rvbyqvix 2027wLªt n‡Z Ryb 2027wLªt ch©šÍ 30% wnmv‡e cÖvc¨ †eZb (18bs) | E53: : | F53: =F36 -> 37400
B54: 3 | C54: 01 RyjvB 2027 wLªt Zvwi‡L evwl©K †eZb e„w× (Bbwµ‡g›U) mn gyj †eZb (21bs) | E54: : | F54: =F39 -> 46200

Sheet Arrear 1 to 9 Grade
J1: [‡MÖWt 1g n‡Z 9g]
B2: PÆMÖvg †f‡Uwibvwi I Gwbg¨vj mvB‡Ým wek^we`¨vjq
C4: A_© gš¿Yvj‡qi A_© wefvM (evv¯Íevqb-1 AbywefvM) Gi Gm. Avi.I bs 348-AvBb/2026, ZvwiL: 17-09-2026 g~‡j RvZxq †eZb †¯‹j 2026 Abyhvqx †eZb wba©viYx weeiYx|
B6: 1 | C6: ='Form-A (1 to 9 Grade)'!C7 -> wkǐK/Kg©KZ©vi/Kg©Pvixi bvg I c`ex | F6: ='Form-A (1 to 9 Grade)'!D6 -> t
B7: 2 | C7: c`ex
B8: 3 | C8: Rvt †et †¯‹jÕ15 Abyhvqx eZ©gvb †eZb †¯‹j | I8: ='Form-A (1 to 9 Grade)'!H4 -> Grade_9 | J8: ='Form-A (1 to 9 Grade)'!F21 -> (Uv: 22000-53060) | N8: =IF('Form-A (1 to 9 Grade)'!H18="ঢাকা", IF(I9<=9700, MAX(I9*0.65, 5600), IF(I9<=16000, MAX(I9*0.6, 6400), IF(I9<=35500, MAX(I9*0.55, 9600), MAX(I9*0.5, 19500)))), IF('Form-A (1 to 9 Grade)'!H18="চট্টগ্রাম/কক্সবাজার", IF(I9<=9700, MAX(I9*0.55, 5000), IF(I9<=16000, MAX(I9*0.5, 5400), IF(I9<=35500, MAX(I9*0.45, 8000), MAX(I9*0.4, 16000)))), IF('Form-A (1 to 9 Grade)'!H18="হাটহাজারী/পূর্বাচল", IF(I9<=9700, MAX(I9*0.5, 4500), IF(I9<=16000, MAX(I9*0.45, 4800), IF(I9<=35500, MAX(I9*0.4, 7000), MAX(I9*0.35, 13800)))), 0))) -> 9900
B9: 4 | C9: Rvt †et †¯‹jÕ15 Abyhvqx Ryb/26 gv‡mi M„nxZ g~j †eZb | I9: ='Form-A (1 to 9 Grade)'!F17 -> 22000 | N9: =IF('Form-A (1 to 9 Grade)'!H18="ঢাকা", IF(I10<=9700, MAX(I10*0.65, 5600), IF(I10<=16000, MAX(I10*0.6, 6400), IF(I10<=35500, MAX(I10*0.55, 9600), MAX(I10*0.5, 19500)))), IF('Form-A (1 to 9 Grade)'!H18="চট্টগ্রাম/কক্সবাজার", IF(I10<=9700, MAX(I10*0.55, 5000), IF(I10<=16000, MAX(I10*0.5, 5400), IF(I10<=35500, MAX(I10*0.45, 8000), MAX(I10*0.4, 16000)))), IF('Form-A (1 to 9 Grade)'!H18="হাটহাজারী/পূর্বাচল", IF(I10<=9700, MAX(I10*0.5, 4500), IF(I10<=16000, MAX(I10*0.45, 4800), IF(I10<=35500, MAX(I10*0.4, 7000), MAX(I10*0.35, 13800)))), 0))) -> 10395
B10: 5 | C10: Rvt †et †¯‹jÕ15 Abyhvqx RyjvB/26 gv‡mi M„nxZ g~j †eZb | I10: ='2015 S'!B24 -> 23100
B11: 6 | C11: Rvt †et †¯‹jÕ Abyhvqx Ryb/26 cÖvc¨ g~j †eZb (wd‡·kb Gi 16bs Abyhvqx):
C12: 1g n‡Z 9g ‡MÖ‡Wi Rb¨ 40% | I12: ='Form-A (1 to 9 Grade)'!F34 -> 30800
B15: µ. bs | C15: gv‡mi bvg | D15: cÖvc¨ | G15: cwi‡kvwaZ | K15: e‡Kqv †eZb
D16: g~j †eZb (6bs Abyhvqx) | E16: evoxfvov fvZv (Ryb/26 Abyhvqx) | F16: ‡gvU UvKv | G16: g~j †eZb (5bs Abyhvqx) | H16: evoxfvov fvZv (RyjvB/26 gv‡m D‡ËvwjZ) | I16: we‡kl myweav (RyjvB/26 gv‡mi D‡ËvwjZ | J16: ‡gvU UvKv
B17: 1 | C17: RyjvBÕ26 | D17: =$I$12 -> 30800 | E17: =$N$8 -> 9900 | F17: =SUM(D17:E17) -> 40700 | G17: =$I$10 -> 23100 | H17: =$N$9 -> 10395 | I17: =MAX(G17*0.1, 1500) -> 2310 | J17: =SUM(G17:I17) -> 35805 | K17: =+F17-J17 -> 4895
B18: 2 | C18: AvMóÕ26 | D18: =$I$12 -> 30800 | E18: =$N$8 -> 9900 | F18: =SUM(D18:E18) -> 40700 | G18: =$I$10 -> 23100 | H18: =$N$9 -> 10395 | I18: =MAX(G18*0.1, 1500) -> 2310 | J18: =SUM(G18:I18) -> 35805 | K18: =+F18-J18 -> 4895
B19: 3 | C19: ‡m‡Þ¤^iÕ26 | D19: =$I$12 -> 30800 | E19: =$N$8 -> 9900 | F19: =SUM(D19:E19) -> 40700 | G19: =$I$10 -> 23100 | H19: =$N$9 -> 10395 | I19: =MAX(G19*0.1, 1500) -> 2310 | J19: =SUM(G19:I19) -> 35805 | K19: =+F19-J19 -> 4895
C20: †gvU | D20: =SUM(D17:D19) -> 92400 | E20: =SUM(E17:E19) -> 29700 | F20: =SUM(F17:F19) -> 122100 | G20: =SUM(G17:G19) -> 69300 | H20: =SUM(H17:H19) -> 31185 | I20: =SUM(I17:I19) -> 6930 | J20: =SUM(J17:J19) -> 107415 | K20: =SUM(K17:K19) -> 14685
C22: wet`ªt- D³ e‡Kqv †eZb wba©vibx c‡Îi Av‡jv‡K AwZwi³ †eZb D‡Ëvjb Kiv n‡j †dir w`‡Z AvcwË _vwK‡ebv|
J25: wkÿK/ Kg©KZ©vi ¯^v¶i

Sheet 2026 Gtade list 1-9
A1: Grade_1 | B1: Grade_2 | C1: Grade_3 | D1: Grade_4 | E1: Grade_5 | F1: Grade_6 | G1: Grade_7 | H1: Grade_8 | I1: Grade_9 | J1: Grade_10 | K1: Grade_11 | L1: Grade_12 | M1: Grade_13 | N1: Grade_14 | O1: Grade_15 | P1: Grade_16 | Q1: Grade_17 | R1: Grade_18 | S1: Grade_19 | T1: Grade_20
A2: (Uv: 78000) | B2: (Uv: 66000-76490) | C2: (Uv: 56500-74400) | D2: (Uv: 50000-71200) | E2: (Uv: 43000-69850) | F2: (Uv: 35500-67010) | G2: (Uv: 29000-63410) | H2: (Uv: 23000-55470) | I2: (Uv: 22000-53060) | J2: (Uv: 16000-38640) | K2: (Uv: 12500-30230) | L2: (Uv: 11300-27300) | M2: (Uv: 11000-26590) | N2: (Uv: 10200-24680) | O2: (Uv: 9700-23490) | P2: (Uv: 9300-22490) | Q2: (Uv: 9000-21800) | R2: (Uv: 8800-21310) | S2: (Uv: 8500-20570) | T2: (Uv: 8250-20010)
A7: ='Form-A (1 to 9 Grade)'!H4 -> Grade_9 | B7: =INDEX($A$2:$T$2, ROW(A1), MATCH(A7, $A$1:$T$1, 0)) -> (Uv: 22000-53060)

Sheet 2015 S
A1: Grade_1 | B1: Grade_2 | C1: Grade_3 | D1: Grade_4 | E1: Grade_5 | F1: Grade_6 | G1: Grade_7 | H1: Grade_8 | I1: Grade_9 | J1: Grade_10 | K1: Grade_11 | L1: Grade_12 | M1: Grade_13 | N1: Grade_14 | O1: Grade_15 | P1: Grade_16 | Q1: Grade_17 | R1: Grade_18 | S1: Grade_19 | T1: Grade_20
A2: 78000 | B2: 66000 | C2: 56500 | D2: 50000 | E2: 43000 | F2: 35500 | G2: 29000 | H2: 23000 | I2: 22000 | J2: 16000 | K2: 12500 | L2: 11300 | M2: 11000 | N2: 10200 | O2: 9700 | P2: 9300 | Q2: 9000 | R2: 8800 | S2: 8500 | T2: 8250
B3: 68480 | C3: 58760 | D3: 52000 | E3: 44940 | F3: 37280 | G3: 30450 | H3: 24150 | I3: 23100 | J3: 16800 | K3: 13130 | L3: 11870 | M3: 11550 | N3: 10710 | O3: 10190 | P3: 9770 | Q3: 9450 | R3: 9240 | S3: 8930 | T3: 8670
B4: 71050 | C4: 61120 | D4: 54080 | E4: 46970 | F4: 39150 | G4: 31980 | H4: 25360 | I4: 24260 | J4: 17640 | K4: 13790 | L4: 12470 | M4: 12130 | N4: 11250 | O4: 10700 | P4: 10260 | Q4: 9930 | R4: 9710 | S4: 9380 | T4: 9110
B5: 73720 | C5: 63570 | D5: 56250 | E5: 49090 | F5: 41110 | G5: 33580 | H5: 26630 | I5: 25480 | J5: 18530 | K5: 14480 | L5: 13100 | M5: 12740 | N5: 11820 | O5: 11240 | P5: 10780 | Q5: 10430 | R5: 10200 | S5: 9850 | T5: 9570
B6: 76490 | C6: 66120 | D6: 58500 | E6: 51300 | F6: 43170 | G6: 35260 | H6: 27970 | I6: 26760 | J6: 19460 | K6: 15210 | L6: 13760 | M6: 13380 | N6: 12420 | O6: 11810 | P6: 11320 | Q6: 10960 | R6: 10710 | S6: 10350 | T6: 10050
C7: 68770 | D7: 60840 | E7: 53610 | F7: 45330 | G7: 37030 | H7: 29370 | I7: 28100 | J7: 20440 | K7: 15980 | L7: 14450 | M7: 14050 | N7: 13050 | O7: 12410 | P7: 11890 | Q7: 11510 | R7: 11250 | S7: 10870 | T7: 10560
C8: 71530 | D8: 63280 | E8: 56030 | F8: 47600 | G8: 38890 | H8: 30840 | I8: 29510 | J8: 21470 | K8: 16780 | L8: 15180 | M8: 14760 | N8: 13710 | O8: 13040 | P8: 12490 | Q8: 12090 | R8: 11820 | S8: 11420 | T8: 11090
C9: 74400 | D9: 65820 | E9: 58560 | F9: 49980 | G9: 40840 | H9: 32390 | I9: 30990 | J9: 22550 | K9: 17620 | L9: 15940 | M9: 15500 | N9: 14400 | O9: 13700 | P9: 13120 | Q9: 12700 | R9: 12420 | S9: 12000 | T9: 11650
D10: 68460 | E10: 61200 | F10: 52480 | G10: 42890 | H10: 34010 | I10: 32540 | J10: 23680 | K10: 18510 | L10: 16740 | M10: 16280 | N10: 15120 | O10: 14390 | P10: 13780 | Q10: 13340 | R10: 13050 | S10: 12600 | T10: 12240
D11: 71200 | E11: 63960 | F11: 55110 | G11: 45040 | H11: 35720 | I11: 34170 | J11: 24870 | K11: 19440 | L11: 17580 | M11: 17100 | N11: 15880 | O11: 15110 | P11: 14470 | Q11: 14010 | R11: 13710 | S11: 13230 | T11: 12860
E12: 66840 | F12: 57870 | G12: 47300 | H12: 37510 | I12: 35880 | J12: 26120 | K12: 20420 | L12: 18460 | M12: 17960 | N12: 16680 | O12: 15870 | P12: 15200 | Q12: 14720 | R12: 14400 | S12: 13900 | T12: 13510
E13: 69850 | F13: 60770 | G13: 49670 | H13: 39390 | I13: 37680 | J13: 27430 | K13: 21450 | L13: 19390 | M13: 18860 | N13: 17520 | O13: 16670 | P13: 15960 | Q13: 15460 | R13: 15120 | S13: 14600 | T13: 14190
F14: 63810 | G14: 52160 | H14: 41360 | I14: 39570 | J14: 28810 | K14: 22530 | L14: 20360 | M14: 19810 | N14: 18400 | O14: 17510 | P14: 16760 | Q14: 16240 | R14: 15880 | S14: 15330 | T14: 14900
F15: 67010 | G15: 54770 | H15: 43430 | I15: 41550 | J15: 30260 | K15: 23660 | L15: 21380 | M15: 20810 | N15: 19320 | O15: 18390 | P15: 17600 | Q15: 17060 | R15: 16680 | S15: 16100 | T15: 15650
G16: 57510 | H16: 45610 | I16: 43630 | J16: 31780 | K16: 24850 | L16: 22450 | M16: 21860 | N16: 20290 | O16: 19310 | P16: 18480 | Q16: 17920 | R16: 17520 | S16: 16910 | T16: 16440
G17: 60390 | H17: 47900 | I17: 45820 | J17: 33370 | K17: 26100 | L17: 23580 | M17: 22960 | N17: 21310 | O17: 20280 | P17: 19410 | Q17: 18820 | R17: 18400 | S17: 17760 | T17: 17270
G18: 63410 | H18: 50300 | I18: 48120 | J18: 35040 | K18: 27410 | L18: 24760 | M18: 24110 | N18: 22380 | O18: 21300 | P18: 20390 | Q18: 19770 | R18: 19320 | S18: 18650 | T18: 18140
H19: 52820 | I19: 50530 | J19: 36800 | K19: 28790 | L19: 26000 | M19: 25320 | N19: 23500 | O19: 22370 | P19: 21410 | Q19: 20760 | R19: 20290 | S19: 19590 | T19: 19050
H20: 55470 | I20: 53060 | J20: 38640 | K20: 30230 | L20: 27300 | M20: 26590 | N20: 24680 | O20: 23490 | P20: 22490 | Q20: 21800 | R20: 21310 | S20: 20570 | T20: 20010
A24: {=INDEX(E25:E43, MATCH(TRUE, VALUE(SUBSTITUTE(E25:E43, ",", "")) >= E24, 0))} -> 22000 | B24: {=IFERROR(INDEX($I$25:$I$43, MATCH(TRUE, VALUE(SUBSTITUTE($I$25:$I$43, ",", "")) > I24, 0)), MAX(VALUE(SUBSTITUTE($I$25:$I$43, ",", ""))))} -> 23100 | C24: {=IFERROR(INDEX($M$25:$M$43, MATCH(TRUE, VALUE(SUBSTITUTE($M$25:$M$43, ",", "")) > M24, 0)), MAX(VALUE(SUBSTITUTE($M$25:$M$43, ",", ""))))} -> 24260 | E24: ='Arrear 1 to 9 Grade'!I9 -> 22000 | I24: =A24 -> 22000 | M24: =B24 -> 23100
D25: ='Form-A (1 to 9 Grade)'!$H$4 -> Grade_9 | E25: =INDEX($A$2:$T$21, ROW(A1), MATCH(D25, $A$1:$T$1, 0)) -> 22000 | H25: ='Form-A (1 to 9 Grade)'!$H$4 -> Grade_9 | I25: =INDEX($A$2:$T$21, ROW(E1), MATCH(H25, $A$1:$T$1, 0)) -> 22000 | L25: ='Form-A (1 to 9 Grade)'!$H$4 -> Grade_9 | M25: =INDEX($A$2:$T$21, ROW(I1), MATCH(L25, $A$1:$T$1, 0)) -> 22000
D26: ='Form-A (1 to 9 Grade)'!$H$4 -> Grade_9 | E26: =INDEX($A$2:$T$21, ROW(A2), MATCH(D26, $A$1:$T$1, 0)) -> 23100 | H26: ='Form-A (1 to 9 Grade)'!$H$4 -> Grade_9 | I26: =INDEX($A$2:$T$21, ROW(E2), MATCH(H26, $A$1:$T$1, 0)) -> 23100 | L26: ='Form-A (1 to 9 Grade)'!$H$4 -> Grade_9 | M26: =INDEX($A$2:$T$21, ROW(I2), MATCH(L26, $A$1:$T$1, 0)) -> 23100
D27: ='Form-A (1 to 9 Grade)'!$H$4 -> Grade_9 | E27: =INDEX($A$2:$T$21, ROW(A3), MATCH(D27, $A$1:$T$1, 0)) -> 24260 | H27: ='Form-A (1 to 9 Grade)'!$H$4 -> Grade_9 | I27: =INDEX($A$2:$T$21, ROW(E3), MATCH(H27, $A$1:$T$1, 0)) -> 24260 | L27: ='Form-A (1 to 9 Grade)'!$H$4 -> Grade_9 | M27: =INDEX($A$2:$T$21, ROW(I3), MATCH(L27, $A$1:$T$1, 0)) -> 24260
D28: ='Form-A (1 to 9 Grade)'!$H$4 -> Grade_9 | E28: =INDEX($A$2:$T$21, ROW(A4), MATCH(D28, $A$1:$T$1, 0)) -> 25480 | H28: ='Form-A (1 to 9 Grade)'!$H$4 -> Grade_9 | I28: =INDEX($A$2:$T$21, ROW(E4), MATCH(H28, $A$1:$T$1, 0)) -> 25480 | L28: ='Form-A (1 to 9 Grade)'!$H$4 -> Grade_9 | M28: =INDEX($A$2:$T$21, ROW(I4), MATCH(L28, $A$1:$T$1, 0)) -> 25480
D29: ='Form-A (1 to 9 Grade)'!$H$4 -> Grade_9 | E29: =INDEX($A$2:$T$21, ROW(A5), MATCH(D29, $A$1:$T$1, 0)) -> 26760 | H29: ='Form-A (1 to 9 Grade)'!$H$4 -> Grade_9 | I29: =INDEX($A$2:$T$21, ROW(E5), MATCH(H29, $A$1:$T$1, 0)) -> 26760 | L29: ='Form-A (1 to 9 Grade)'!$H$4 -> Grade_9 | M29: =INDEX($A$2:$T$21, ROW(I5), MATCH(L29, $A$1:$T$1, 0)) -> 26760
D30: ='Form-A (1 to 9 Grade)'!$H$4 -> Grade_9 | E30: =INDEX($A$2:$T$21, ROW(A6), MATCH(D30, $A$1:$T$1, 0)) -> 28100 | H30: ='Form-A (1 to 9 Grade)'!$H$4 -> Grade_9 | I30: =INDEX($A$2:$T$21, ROW(E6), MATCH(H30, $A$1:$T$1, 0)) -> 28100 | L30: ='Form-A (1 to 9 Grade)'!$H$4 -> Grade_9 | M30: =INDEX($A$2:$T$21, ROW(I6), MATCH(L30, $A$1:$T$1, 0)) -> 28100
D31: ='Form-A (1 to 9 Grade)'!$H$4 -> Grade_9 | E31: =INDEX($A$2:$T$21, ROW(A7), MATCH(D31, $A$1:$T$1, 0)) -> 29510 | H31: ='Form-A (1 to 9 Grade)'!$H$4 -> Grade_9 | I31: =INDEX($A$2:$T$21, ROW(E7), MATCH(H31, $A$1:$T$1, 0)) -> 29510 | L31: ='Form-A (1 to 9 Grade)'!$H$4 -> Grade_9 | M31: =INDEX($A$2:$T$21, ROW(I7), MATCH(L31, $A$1:$T$1, 0)) -> 29510
D32: ='Form-A (1 to 9 Grade)'!$H$4 -> Grade_9 | E32: =INDEX($A$2:$T$21, ROW(A8), MATCH(D32, $A$1:$T$1, 0)) -> 30990 | H32: ='Form-A (1 to 9 Grade)'!$H$4 -> Grade_9 | I32: =INDEX($A$2:$T$21, ROW(E8), MATCH(H32, $A$1:$T$1, 0)) -> 30990 | L32: ='Form-A (1 to 9 Grade)'!$H$4 -> Grade_9 | M32: =INDEX($A$2:$T$21, ROW(I8), MATCH(L32, $A$1:$T$1, 0)) -> 30990
D33: ='Form-A (1 to 9 Grade)'!$H$4 -> Grade_9 | E33: =INDEX($A$2:$T$21, ROW(A9), MATCH(D33, $A$1:$T$1, 0)) -> 32540 | H33: ='Form-A (1 to 9 Grade)'!$H$4 -> Grade_9 | I33: =INDEX($A$2:$T$21, ROW(E9), MATCH(H33, $A$1:$T$1, 0)) -> 32540 | L33: ='Form-A (1 to 9 Grade)'!$H$4 -> Grade_9 | M33: =INDEX($A$2:$T$21, ROW(I9), MATCH(L33, $A$1:$T$1, 0)) -> 32540
D34: ='Form-A (1 to 9 Grade)'!$H$4 -> Grade_9 | E34: =INDEX($A$2:$T$21, ROW(A10), MATCH(D34, $A$1:$T$1, 0)) -> 34170 | H34: ='Form-A (1 to 9 Grade)'!$H$4 -> Grade_9 | I34: =INDEX($A$2:$T$21, ROW(E10), MATCH(H34, $A$1:$T$1, 0)) -> 34170 | L34: ='Form-A (1 to 9 Grade)'!$H$4 -> Grade_9 | M34: =INDEX($A$2:$T$21, ROW(I10), MATCH(L34, $A$1:$T$1, 0)) -> 34170
D35: ='Form-A (1 to 9 Grade)'!$H$4 -> Grade_9 | E35: =INDEX($A$2:$T$21, ROW(A11), MATCH(D35, $A$1:$T$1, 0)) -> 35880 | H35: ='Form-A (1 to 9 Grade)'!$H$4 -> Grade_9 | I35: =INDEX($A$2:$T$21, ROW(E11), MATCH(H35, $A$1:$T$1, 0)) -> 35880 | L35: ='Form-A (1 to 9 Grade)'!$H$4 -> Grade_9 | M35: =INDEX($A$2:$T$21, ROW(I11), MATCH(L35, $A$1:$T$1, 0)) -> 35880
D36: ='Form-A (1 to 9 Grade)'!$H$4 -> Grade_9 | E36: =INDEX($A$2:$T$21, ROW(A12), MATCH(D36, $A$1:$T$1, 0)) -> 37680 | H36: ='Form-A (1 to 9 Grade)'!$H$4 -> Grade_9 | I36: =INDEX($A$2:$T$21, ROW(E12), MATCH(H36, $A$1:$T$1, 0)) -> 37680 | L36: ='Form-A (1 to 9 Grade)'!$H$4 -> Grade_9 | M36: =INDEX($A$2:$T$21, ROW(I12), MATCH(L36, $A$1:$T$1, 0)) -> 37680
... D44: ='Form-A (1 to 9 Grade)'!$H$4 -> Grade_9 | E44: =INDEX($A$2:$T$21, ROW(A20), MATCH(D44, $A$1:$T$1, 0)) -> 0 | H44: ='Form-A (1 to 9 Grade)'!$H$4 -> Grade_9 | I44: =INDEX($A$2:$T$21, ROW(E20), MATCH(H44, $A$1:$T$1, 0)) -> 0 | L44: ='Form-A (1 to 9 Grade)'!$H$4 -> Grade_9 | M44: =INDEX($A$2:$T$21, ROW(I20), MATCH(L44, $A$1:$T$1, 0)) -> 0

Sheet Form-B (10 to 20 Grade)
E1: Form-B [‡MÖWt 10g n‡Z 20Zg]
B2: PÆMÖvg †f‡Uwibvwi I Gwbg¨vj mvB‡Ým wek^we`¨vjq | H2: Avcbvi eZ©gvb †MÖW wm‡j± Kiæb
B4: A_© gš¿Yvj‡qi A_© wefvM (ev¯Íevqb-1 AbywefvM) Gi Gm. Avi.I bs 348-AvBb/2026, ZvwiL: 17-09-2026 g~‡j RvZxq †eZb †¯‹j 2026 Abyhvqx †eZb wba©viYx weeiYx| | H4: Grade_20
H5: 1 RvbyqvixÕ26 cieZx© be wb‡qvMcÖvß‡`i Rb¨
B6: 1| | C6: RvZxq cwiPq c‡Îi (NID) bs | D6: t
B7: 2| | C7: Kg©KZ©v/Kg©Pvixi bvg I c`ex | D7: t
B8: 3| | C8: Awdm/wefvM | D8: t
B9: 4| | C9: ‡gvevBj b¤^i | D9: t | H9: 30 Ryb 2026 Gi cÖvß g~j †eZb
B10: 5| | C10: Rb¥ ZvwiL | D10: t
B11: 6| | C11: PvKzix‡Z cÖ_g †hvM`v‡bi ZvwiL | D11: t | H11: 8250
C12: K) cÖ_g †hvM`v‡bi Zvwi‡L c`ex | D12: t
C13: L) Awdm/wefvM | D13: t
C14: M) †hvM`v‡bi Zvwi‡L mvem‡UbwUf †MÖW | D14: t
B16: 7| | C16: 30/06/2026 wLª. Zvwi‡L- | H16: Kg©¯’j
C17: K) M„nxZ g~j †eZb | E17: : | F17: =H11 -> 8250
C18: L) wcwc (hw` _v‡K) | E18: : | F18: 0 | H18: চট্টগ্রাম/কক্সবাজার
C19: M) †gvU †eZb | E19: : | F19: =SUM(F17:F18) -> 8250
B20: 8| | C20: RvZxq †eZb †¯‹j-2015 Abyhvqx 30/06/2026wLª. Zvwi‡L -
C21: K) cÖvß †MÖW I †¯‹j | D21: =H4 -> Grade_20 | E21: : | F21: ='2015 Gtade list 10-20'!B7 -> (Uv: 8250-20010)
C22: L) cÖvß †MÖ‡Wi cÖviw¤¢K avc | E22: : | F22: =SUMIF('2015'!A2:B21,'Form-B (10 to 20 Grade)'!H4,'2015'!B2:B21) -> 8250
C23: M) cv_©K¨ (7M - 8L) | E23: : | F23: =F19-F22 -> 0
B24: 9| | C24: RvZxq ‡eZb †¯‹j-2026 Abyhvqx 01/07/2026wLªt Zvwi‡L -
C25: K) cÖvß †MÖW I †¯‹j | D25: =H4 -> Grade_20 | E25: : | F25: ='2026 Grade list 10-20'!B7 -> (Uv: 20000-48400)
C26: L) cÖvß †MÖ‡Wi cÖviw¤¢K avc | E26: : | F26: =SUMIF('2026'!A2:B21,'Form-B (10 to 20 Grade)'!H4,'2026'!B2:B21) -> 20000
C27: M) †gvU †eZb (8M+9L) | E27: : | F27: =F23+F26 -> 20000
B28: 10| | C28: RvZxq †eZb †¯‹j 2026 Abyhvqx mg/D”Pavc | E28: : | F28: =IF(OR('10-20 Calculation'!A24=0,'10-20 Calculation'!A24=""),156000,'10-20 Calculation'!A24) -> 20000
B29: 11| | C29: 01 RyjvB 2026 Zvwi‡L wba©vwiZ †eZb (10 Gi mgvb) | E29: : | F29: =F28 -> 20000
B30: 12| | C30: 01 RyjvB 2026 Zvwi‡L evwl©K †eZb e„w× (Bbwµ‡g›U) mn wba©vwiZ †eZb | E30: : | F30: =F29 -> 20000
B31: 13| | C31: ‡eZb e„w×i cwigvY (11-7) | E31: : | F31: =F29-F19 -> 11750
B32: 14| | C32: e„w×cÖvß †eZ‡bi 50% (13×50%) | E32: : | F32: =F31*50% -> 5875
B33: 15| | C33: 01 RyjvB 2026 Zvwi‡L cÖvc¨ †eZb (50% e„w× Abyhvqx) (7+14) | E33: : | F33: =F19+F32 -> 14125
B34: 16| | C34: 01 RyjvB 2026 Zvwi‡L evwl©K †eZb e„w× (Bbwµ‡g›U) mn cÖvc¨ ‡eZb (15+(12-11) | E34: : | F34: =SUM(F30-F29)+F33 -> 14125
B35: 17| | C35: 01 Rvbyqvix 2027 Zvwi‡L †eZb e„w×i 25% (13×25%) | E35: : | F35: =F31*25% -> 2937.5
B36: 18| | C36: 01 Rvbyqvix 2027 Zvwi‡L wba©vwiZ cÖvc¨ ‡eZb (16+17) | E36: : | F36: =F34+F35 -> 17062.5
B37: 19| | C37: 01 RyjvB 2027 Zvwi‡L ‡eZb e„w×i Aewkó 25% (13×25%) | E37: : | F37: =F31*25% -> 2937.5
B38: 20| | C38: 01 RyjvB 2027 Zvwi‡L cÖvc¨ †eZb 100% (18+19) | E38: : | F38: =F36+F37 -> 20000
B39: 21| | C39: 01 RyjvB 2027 Zvwi‡L evwl©K †eZb e„w× (Bbwµ‡g›U) mn cÖvc¨ †eZb | E39: : | F39: =IF(OR('10-20 Calculation'!B24=0,'10-20 Calculation'!B24=""),156000,'10-20 Calculation'!B24) -> 21000
B42: wet`ªt- †eZb wba©viYx weeiYxwU mvgwqKfv‡e †eZb wba©vi‡Yi Rb¨ †ck Kiv n‡jv| D³ †eZb wba©vibx di‡gi Av‡jv‡K AwZwi³ †eZb D‡Ëvjb Kiv n‡j †dir w`‡Z AvcwË _vK‡e bv|
E44: Kg©KZ©v/Kg©Pvixi ¯^v¶i
B46: A_© I wnmve Awd‡m e¨env‡ii Rb¨
B48: bs- | C48: wmfvmy/A_© I wnmve/‡eZb/Rv:‡e:‡¯‹j-26/8971 | F48: ZvwiL: 08/10/2026wLª:
C50: D³ weeiYx cix¶v Kiv nBj| RvZxq †eZb †¯‹j'2026 G 01 RyjvB 2026 wLªªt Zvwi‡L | E50: : | F50: =F38 -> 20000
C51: =F25 -> (Uv: 20000-48400) | D51: ‡¯‹‡j g~j †eZb UvKv wba©viY Kiv nBj| (12bs)
B52: 1 | C52: 01 RyjvB 2026 wLªªt n‡Z 31 wW‡m¤^i 2026wLªt ch©šÍ 50% wnmv‡e cÖvc¨ †eZb (16bs) | E52: : | F52: =F34 -> 14125
B53: 2 | C53: 01 Rvbyqvix 2027wLªt n‡Z Ryb 2027wLªt ch©šÍ 30% wnmv‡e cÖvc¨ †eZb (18bs) | E53: : | F53: =F36 -> 17062.5
B54: 3 | C54: 01 RyjvB 2027 wLªt Zvwi‡L evwl©K †eZb e„w× (Bbwµ‡g›U) mn gyj †eZb (21bs) | E54: : | F54: =F39 -> 21000

Sheet 10-20 Calculation
A1: Grade_1 | B1: Grade_2 | C1: Grade_3 | D1: Grade_4 | E1: Grade_5 | F1: Grade_6 | G1: Grade_7 | H1: Grade_8 | I1: Grade_9 | J1: Grade_10 | K1: Grade_11 | L1: Grade_12 | M1: Grade_13 | N1: Grade_14 | O1: Grade_15 | P1: Grade_16 | Q1: Grade_17 | R1: Grade_18 | S1: Grade_19 | T1: Grade_20
A2: 156000 | B2: 132000 | C2: 113000 | D2: 100000 | E2: 86000 | F2: 71000 | G2: 58000 | H2: 46000 | I2: 44000 | J2: 32000 | K2: 25000 | L2: 24300 | M2: 24000 | N2: 23500 | O2: 22800 | P2: 21900 | Q2: 21400 | R2: 21000 | S2: 20500 | T2: 20000
B3: 135700 | C3: 117000 | D3: 103500 | E3: 89500 | F3: 74600 | G3: 60900 | H3: 48300 | I3: 46200 | J3: 33600 | K3: 26300 | L3: 25600 | M3: 25200 | N3: 24700 | O3: 24000 | P3: 23000 | Q3: 22500 | R3: 22100 | S3: 21600 | T3: 21000
B4: 139400 | C4: 121100 | D4: 107200 | E4: 93100 | F4: 78300 | G4: 64000 | H4: 50800 | I4: 48600 | J4: 35300 | K4: 27600 | L4: 26800 | M4: 26500 | N4: 26000 | O4: 25200 | P4: 24200 | Q4: 23600 | R4: 23200 | S4: 22700 | T4: 22100
B5: 143200 | C5: 125300 | D5: 110900 | E5: 96800 | F5: 82200 | G5: 67200 | H5: 53300 | I5: 51000 | J5: 37100 | K5: 29000 | L5: 28200 | M5: 27800 | N5: 27300 | O5: 26400 | P5: 25400 | Q5: 24800 | R5: 24400 | S5: 23800 | T5: 23200
B6: 147200 | C6: 129700 | D6: 114800 | E6: 100700 | F6: 86400 | G6: 70500 | H6: 56000 | I6: 53500 | J6: 38900 | K6: 30400 | L6: 29600 | M6: 29200 | N6: 28600 | O6: 27800 | P6: 26700 | Q6: 26100 | R6: 25600 | S6: 25000 | T6: 24400
B7: 151200 | C7: 134300 | D7: 118800 | E7: 104700 | F7: 90700 | G7: 74100 | H7: 58800 | I7: 56200 | J7: 40900 | K7: 32000 | L7: 31100 | M7: 30700 | N7: 30000 | O7: 29100 | P7: 28000 | Q7: 27400 | R7: 26900 | S7: 26200 | T7: 25600
B8: 153000 | C8: 139000 | D8: 123000 | E8: 108900 | F8: 95200 | G8: 77800 | H8: 61700 | I8: 59000 | J8: 42900 | K8: 33600 | L8: 32600 | M8: 32200 | N8: 31500 | O8: 30600 | P8: 29400 | Q8: 28700 | R8: 28200 | S8: 27500 | T8: 26900
C9: 143800 | D9: 127300 | E9: 113200 | F9: 100000 | G9: 81700 | H9: 64800 | I9: 62000 | J9: 45100 | K9: 35200 | L9: 34200 | M9: 33800 | N9: 33100 | O9: 32100 | P9: 30900 | Q9: 30200 | R9: 29600 | S9: 28900 | T9: 28200
C10: 148800 | D10: 131700 | E10: 117700 | F10: 104900 | G10: 85700 | H10: 68000 | I10: 65100 | J10: 47300 | K10: 37000 | L10: 36000 | M10: 35500 | N10: 34800 | O10: 33700 | P10: 32400 | Q10: 31700 | R10: 31100 | S10: 30300 | T10: 29600
D11: 136300 | E11: 122500 | F11: 110200 | G11: 90000 | H11: 71400 | I11: 68300 | J11: 49700 | K11: 38800 | L11: 37700 | M11: 37300 | N11: 36500 | O11: 35400 | P11: 34000 | Q11: 33200 | R11: 32600 | S11: 31900 | T11: 31100
D12: 142400 | E12: 127400 | F12: 115700 | G12: 94500 | H12: 75000 | I12: 71700 | J12: 52200 | K12: 40800 | L12: 39600 | M12: 39100 | N12: 38300 | O12: 37200 | P12: 35700 | Q12: 34900 | R12: 34300 | S12: 33400 | T12: 32600
E13: 132400 | F13: 121500 | G13: 99200 | H13: 78700 | I13: 75300 | J13: 54800 | K13: 42800 | L13: 41600 | M13: 41100 | N13: 40200 | O13: 39000 | P13: 37500 | Q13: 36700 | R13: 36000 | S13: 35100 | T13: 34300
E14: 139700 | F14: 127600 | G14: 104200 | H14: 82700 | I14: 79100 | J14: 57500 | K14: 44900 | L14: 43700 | M14: 43200 | N14: 42300 | O14: 41000 | P14: 39400 | Q14: 38500 | R14: 37800 | S14: 36900 | T14: 36000
F15: 134000 | G15: 109400 | H15: 86800 | I15: 83000 | J15: 60400 | K15: 47200 | L15: 45900 | M15: 45300 | N15: 44400 | O15: 43000 | P15: 41300 | Q15: 40400 | R15: 39600 | S15: 38700 | T15: 37800
G16: 114900 | H16: 91100 | I16: 87200 | J16: 63400 | K16: 49500 | L16: 48200 | M16: 47600 | N16: 46600 | O16: 45200 | P16: 43400 | Q16: 42400 | R16: 41600 | S16: 40600 | T16: 39600
G17: 120600 | H17: 95700 | I17: 91500 | J17: 66600 | K17: 52000 | L17: 50600 | M17: 49900 | N17: 48900 | O17: 47400 | P17: 45600 | Q17: 44500 | R17: 43700 | S17: 42700 | T17: 41600
G18: 126800 | H18: 100500 | I18: 96100 | J18: 69900 | K18: 54600 | L18: 53100 | M18: 52400 | N18: 51300 | O18: 49800 | P18: 47900 | Q18: 46800 | R18: 45900 | S18: 44800 | T18: 43700
H19: 105500 | I19: 100900 | J19: 73400 | K19: 57300 | L19: 55700 | M19: 55100 | N19: 53900 | O19: 52300 | P19: 50200 | Q19: 49100 | R19: 48200 | S19: 47000 | T19: 45900
H20: 110800 | I20: 105900 | J20: 77300 | K20: 60500 | L20: 58700 | M20: 58000 | N20: 56800 | O20: 55200 | P20: 52900 | Q20: 51900 | R20: 50900 | S20: 49600 | T20: 48400
A24: {=INDEX(E25:E43, MATCH(TRUE, VALUE(SUBSTITUTE(E25:E43, ",", "")) >= E24, 0))} -> 20000 | B24: {=IFERROR(INDEX($I$25:$I$43, MATCH(TRUE, VALUE(SUBSTITUTE($I$25:$I$43, ",", "")) > I24, 0)), MAX(VALUE(SUBSTITUTE($I$25:$I$43, ",", ""))))} -> 21000 | C24: {=IFERROR(INDEX($M$25:$M$43, MATCH(TRUE, VALUE(SUBSTITUTE($M$25:$M$43, ",", "")) > M24, 0)), MAX(VALUE(SUBSTITUTE($M$25:$M$43, ",", ""))))} -> 22100 | E24: ='Form-B (10 to 20 Grade)'!F27 -> 20000 | I24: =A24 -> 20000 | M24: =B24 -> 21000
D25: ='Form-B (10 to 20 Grade)'!$H$4 -> Grade_20 | E25: =INDEX($A$2:$T$21, ROW(A1), MATCH(D25, $A$1:$T$1, 0)) -> 20000 | H25: ='Form-B (10 to 20 Grade)'!$H$4 -> Grade_20 | I25: =INDEX($A$2:$T$21, ROW(E1), MATCH(H25, $A$1:$T$1, 0)) -> 20000 | L25: ='Form-B (10 to 20 Grade)'!$H$4 -> Grade_20 | M25: =INDEX($A$2:$T$21, ROW(I1), MATCH(L25, $A$1:$T$1, 0)) -> 20000
D26: ='Form-B (10 to 20 Grade)'!$H$4 -> Grade_20 | E26: =INDEX($A$2:$T$21, ROW(A2), MATCH(D26, $A$1:$T$1, 0)) -> 21000 | H26: ='Form-B (10 to 20 Grade)'!$H$4 -> Grade_20 | I26: =INDEX($A$2:$T$21, ROW(E2), MATCH(H26, $A$1:$T$1, 0)) -> 21000 | L26: ='Form-B (10 to 20 Grade)'!$H$4 -> Grade_20 | M26: =INDEX($A$2:$T$21, ROW(I2), MATCH(L26, $A$1:$T$1, 0)) -> 21000
D27: ='Form-B (10 to 20 Grade)'!$H$4 -> Grade_20 | E27: =INDEX($A$2:$T$21, ROW(A3), MATCH(D27, $A$1:$T$1, 0)) -> 22100 | H27: ='Form-B (10 to 20 Grade)'!$H$4 -> Grade_20 | I27: =INDEX($A$2:$T$21, ROW(E3), MATCH(H27, $A$1:$T$1, 0)) -> 22100 | L27: ='Form-B (10 to 20 Grade)'!$H$4 -> Grade_20 | M27: =INDEX($A$2:$T$21, ROW(I3), MATCH(L27, $A$1:$T$1, 0)) -> 22100
D28: ='Form-B (10 to 20 Grade)'!$H$4 -> Grade_20 | E28: =INDEX($A$2:$T$21, ROW(A4), MATCH(D28, $A$1:$T$1, 0)) -> 23200 | H28: ='Form-B (10 to 20 Grade)'!$H$4 -> Grade_20 | I28: =INDEX($A$2:$T$21, ROW(E4), MATCH(H28, $A$1:$T$1, 0)) -> 23200 | L28: ='Form-B (10 to 20 Grade)'!$H$4 -> Grade_20 | M28: =INDEX($A$2:$T$21, ROW(I4), MATCH(L28, $A$1:$T$1, 0)) -> 23200
D29: ='Form-B (10 to 20 Grade)'!$H$4 -> Grade_20 | E29: =INDEX($A$2:$T$21, ROW(A5), MATCH(D29, $A$1:$T$1, 0)) -> 24400 | H29: ='Form-B (10 to 20 Grade)'!$H$4 -> Grade_20 | I29: =INDEX($A$2:$T$21, ROW(E5), MATCH(H29, $A$1:$T$1, 0)) -> 24400 | L29: ='Form-B (10 to 20 Grade)'!$H$4 -> Grade_20 | M29: =INDEX($A$2:$T$21, ROW(I5), MATCH(L29, $A$1:$T$1, 0)) -> 24400
D30: ='Form-B (10 to 20 Grade)'!$H$4 -> Grade_20 | E30: =INDEX($A$2:$T$21, ROW(A6), MATCH(D30, $A$1:$T$1, 0)) -> 25600 | H30: ='Form-B (10 to 20 Grade)'!$H$4 -> Grade_20 | I30: =INDEX($A$2:$T$21, ROW(E6), MATCH(H30, $A$1:$T$1, 0)) -> 25600 | L30: ='Form-B (10 to 20 Grade)'!$H$4 -> Grade_20 | M30: =INDEX($A$2:$T$21, ROW(I6), MATCH(L30, $A$1:$T$1, 0)) -> 25600
D31: ='Form-B (10 to 20 Grade)'!$H$4 -> Grade_20 | E31: =INDEX($A$2:$T$21, ROW(A7), MATCH(D31, $A$1:$T$1, 0)) -> 26900 | H31: ='Form-B (10 to 20 Grade)'!$H$4 -> Grade_20 | I31: =INDEX($A$2:$T$21, ROW(E7), MATCH(H31, $A$1:$T$1, 0)) -> 26900 | L31: ='Form-B (10 to 20 Grade)'!$H$4 -> Grade_20 | M31: =INDEX($A$2:$T$21, ROW(I7), MATCH(L31, $A$1:$T$1, 0)) -> 26900
D32: ='Form-B (10 to 20 Grade)'!$H$4 -> Grade_20 | E32: =INDEX($A$2:$T$21, ROW(A8), MATCH(D32, $A$1:$T$1, 0)) -> 28200 | H32: ='Form-B (10 to 20 Grade)'!$H$4 -> Grade_20 | I32: =INDEX($A$2:$T$21, ROW(E8), MATCH(H32, $A$1:$T$1, 0)) -> 28200 | L32: ='Form-B (10 to 20 Grade)'!$H$4 -> Grade_20 | M32: =INDEX($A$2:$T$21, ROW(I8), MATCH(L32, $A$1:$T$1, 0)) -> 28200
D33: ='Form-B (10 to 20 Grade)'!$H$4 -> Grade_20 | E33: =INDEX($A$2:$T$21, ROW(A9), MATCH(D33, $A$1:$T$1, 0)) -> 29600 | H33: ='Form-B (10 to 20 Grade)'!$H$4 -> Grade_20 | I33: =INDEX($A$2:$T$21, ROW(E9), MATCH(H33, $A$1:$T$1, 0)) -> 29600 | L33: ='Form-B (10 to 20 Grade)'!$H$4 -> Grade_20 | M33: =INDEX($A$2:$T$21, ROW(I9), MATCH(L33, $A$1:$T$1, 0)) -> 29600
D34: ='Form-B (10 to 20 Grade)'!$H$4 -> Grade_20 | E34: =INDEX($A$2:$T$21, ROW(A10), MATCH(D34, $A$1:$T$1, 0)) -> 31100 | H34: ='Form-B (10 to 20 Grade)'!$H$4 -> Grade_20 | I34: =INDEX($A$2:$T$21, ROW(E10), MATCH(H34, $A$1:$T$1, 0)) -> 31100 | L34: ='Form-B (10 to 20 Grade)'!$H$4 -> Grade_20 | M34: =INDEX($A$2:$T$21, ROW(I10), MATCH(L34, $A$1:$T$1, 0)) -> 31100
D35: ='Form-B (10 to 20 Grade)'!$H$4 -> Grade_20 | E35: =INDEX($A$2:$T$21, ROW(A11), MATCH(D35, $A$1:$T$1, 0)) -> 32600 | H35: ='Form-B (10 to 20 Grade)'!$H$4 -> Grade_20 | I35: =INDEX($A$2:$T$21, ROW(E11), MATCH(H35, $A$1:$T$1, 0)) -> 32600 | L35: ='Form-B (10 to 20 Grade)'!$H$4 -> Grade_20 | M35: =INDEX($A$2:$T$21, ROW(I11), MATCH(L35, $A$1:$T$1, 0)) -> 32600
D36: ='Form-B (10 to 20 Grade)'!$H$4 -> Grade_20 | E36: =INDEX($A$2:$T$21, ROW(A12), MATCH(D36, $A$1:$T$1, 0)) -> 34300 | H36: ='Form-B (10 to 20 Grade)'!$H$4 -> Grade_20 | I36: =INDEX($A$2:$T$21, ROW(E12), MATCH(H36, $A$1:$T$1, 0)) -> 34300 | L36: ='Form-B (10 to 20 Grade)'!$H$4 -> Grade_20 | M36: =INDEX($A$2:$T$21, ROW(I12), MATCH(L36, $A$1:$T$1, 0)) -> 34300
... D43: ='Form-B (10 to 20 Grade)'!$H$4 -> Grade_20 | E43: =INDEX($A$2:$T$21, ROW(A19), MATCH(D43, $A$1:$T$1, 0)) -> 48400 | H43: ='Form-B (10 to 20 Grade)'!$H$4 -> Grade_20 | I43: =INDEX($A$2:$T$21, ROW(E19), MATCH(H43, $A$1:$T$1, 0)) -> 48400 | L43: ='Form-B (10 to 20 Grade)'!$H$4 -> Grade_20 | M43: =INDEX($A$2:$T$21, ROW(I19), MATCH(L43, $A$1:$T$1, 0)) -> 48400

Sheet Form-C (Arrear)
J1: Form-C (e‡Kqv)
B2: PÆMÖvg †f‡Uwibvwi I Gwbg¨vj mvB‡Ým wek^we`¨vjq
C4: A_© gš¿Yvj‡qi A_© wefvM (ev¯Íevqb-1 AbywefvM) Gi Gm. Avi.I bs 348-AvBb/2026, ZvwiL: 17-09-2026 g~‡j RvZxq †eZb †¯‹j 2026 Abyhvqx †eZb wba©viYx weeiYx|
B6: 1 | C6: bvg t
B7: 2 | C7: c`ex t
B8: 3 | C8: Rvt †et †¯‹jÕ15 Abyhvqx eZ©gvb †eZb †¯‹j
B9: 4 | C9: Rvt †et †¯‹jÕ15 Abyhvqx Ryb'26 gv‡mi M„nxZ g~j †eZb | I9: 0
B10: 5 | C10: Rvt †et †¯‹jÕ15 Abyhvqx RyjvB'26 gv‡mi M„nxZ g~j †eZb | I10: 0
B11: 6 | C11: Rvt †et †¯‹jÕ26 Abyhvqx RyjvB' 26 gv‡m cÖvc¨ g~j †eZb (wd‡·kb Gi 16bs Abyhvqx) :
C12: K) 1g n‡Z 9g ‡MÖ‡Wi Rb¨ 40% | I12: 0
C13: L) 10g n‡Z 20Zg ‡MÖ‡Wi Rb¨ 50% | I13: 0
B16: µ. bs | C16: gv‡mi bvg | D16: cÖvc¨ | G16: cwi‡kvwaZ | K16: e‡Kqv †eZb
D17: g~j †eZb (6K/L Abyhvqx) | E17: * evoxfvov fvZv (Ryb/26 Abyhvqx) | F17: ‡gvU UvKv | G17: g~j †eZb (5bs Abyhvqx) | H17: * evoxfvov fvZv (RyjvB/26 gv‡m D‡ËvwjZ evoxfvov Abyhvqx) | I17: ** we‡kl myweav (RyjvB/26 gv‡mi D‡Ëvjb AYyhvqx) | J17: ‡gvU UvKv
B18: 1 | C18: 2 | D18: 3 | E18: 4 | F18: 5(3+4) | G18: 6 | H18: 7 | I18: 8 | J18: 9(6++8) | K18: 10 (5-9)
B19: 1 | C19: RyjvBÕ26 | D19: 0 | E19: 0 | F19: =SUM(D19:E19) -> 0 | G19: 0 | H19: 0 | I19: 0 | J19: =SUM(G19:I19) -> 0 | K19: =+F19-J19 -> 0
B20: 2 | C20: AvMóÕ26 | D20: 0 | E20: 0 | F20: =SUM(D20:E20) -> 0 | G20: 0 | H20: 0 | I20: 0 | J20: =SUM(G20:I20) -> 0 | K20: =+F20-J20 -> 0
B21: 3 | C21: ‡m‡Þ¤^iÕ26 | D21: 0 | E21: 0 | F21: =SUM(D21:E21) -> 0 | G21: 0 | H21: 0 | I21: 0 | J21: =SUM(G21:I21) -> 0 | K21: =+F21-J21 -> 0
C22: †gvU | D22: =SUM(D19:D21) -> 0 | E22: =SUM(E19:E21) -> 0 | F22: =SUM(F19:F21) -> 0 | G22: =SUM(G19:G21) -> 0 | H22: =SUM(H19:H21) -> 0 | I22: =SUM(I19:I21) -> 0 | J22: =SUM(J19:J21) -> 0 | K22: =SUM(K19:K21) -> 0
H23: g~j †eZbe„w× (3-6) | K23: =+D22-G22 -> 0
H24: (ev`) wRwcGd KZ©b 10% (g~j †eZb e„w×i) | K24: =+K23*10% -> 0
H25: bxU e‡Kqv Uvt | K25: =+K22-K24 -> 0
C27: wet`ªt- D³ e‡Kqv †eZb wba©vibx c‡Îi Av‡jv‡K AwZwi³ †eZb D‡Ëvjb Kiv n‡j †dir w`‡Z AvcwË _vwK‡ebv|
I32: wkÿK/ Kg©KZ©vi/Kg©Pvixi ¯^v¶i I mxj
B45: mshyw³: evoxfvovi nvi Ges we‡kl myweavÕi cÖ`Ë nvi wb‡b¥ cÖ`vb Kiv nÕj|
C47: * evoxfvovi wnmvet
C61: ** we‡kl myweavt 1g †MÖW Ges Z`yaŸ© n‡Z †MÖW 9g ch©šÍ 10% Ges †MÖW 10 n‡Z 20 ch©šÍ 15%, me©wb¤§ 1500/- nv‡i cÖ‡`q|

Sheet Arrear 10 to 20 Grade
J1: [‡MÖWt 10g n‡Z 20Zg]
B2: PÆMÖvg †f‡Uwibvwi I Gwbg¨vj mvB‡Ým wek^we`¨vjq
C4: A_© gš¿Yvj‡qi (Av¯Íevqb-1AbywefvM) Gi Gm. Avi.I bs 348-AvBb/2026, ZvwiL: 17-09-2026 g~‡j RvZxq †eZb †¯‹j 2026 Abyhvqx RyjvB/26 n‡Z †m‡Þ¤^i/26 gv‡mi e‡Kqv †eZb weeiYx|
B6: 1 | C6: ='Form-A (1 to 9 Grade)'!C7 -> wkǐK/Kg©KZ©vi/Kg©Pvixi bvg I c`ex | F6: ='Form-A (1 to 9 Grade)'!D6 -> t
B7: 2 | C7: c`ex
B8: 3 | C8: Rvt †et †¯‹jÕ15 Abyhvqx eZ©gvb †eZb †¯‹j | I8: ='Form-B (10 to 20 Grade)'!H4 -> Grade_20 | J8: ='Form-B (10 to 20 Grade)'!F21 -> (Uv: 8250-20010) | N8: =IF('Form-B (10 to 20 Grade)'!H18="ঢাকা", IF(I9<=9700, MAX(I9*0.65, 5600), IF(I9<=16000, MAX(I9*0.6, 6400), IF(I9<=35500, MAX(I9*0.55, 9600), MAX(I9*0.5, 19500)))), IF('Form-B (10 to 20 Grade)'!H18="চট্টগ্রাম/কক্সবাজার", IF(I9<=9700, MAX(I9*0.55, 5000), IF(I9<=16000, MAX(I9*0.5, 5400), IF(I9<=35500, MAX(I9*0.45, 8000), MAX(I9*0.4, 16000)))), IF('Form-B (10 to 20 Grade)'!H18="হাটহাজারী/পূর্বাচল", IF(I9<=9700, MAX(I9*0.5, 4500), IF(I9<=16000, MAX(I9*0.45, 4800), IF(I9<=35500, MAX(I9*0.4, 7000), MAX(I9*0.35, 13800)))), 0))) -> 5000
B9: 4 | C9: Rvt †et †¯‹jÕ15 Abyhvqx Ryb/26 gv‡mi M„nxZ g~j †eZb | I9: ='Form-B (10 to 20 Grade)'!F17 -> 8250 | N9: =IF('Form-B (10 to 20 Grade)'!H18="ঢাকা", IF(I10<=9700, MAX(I10*0.65, 5600), IF(I10<=16000, MAX(I10*0.6, 6400), IF(I10<=35500, MAX(I10*0.55, 9600), MAX(I10*0.5, 19500)))), IF('Form-B (10 to 20 Grade)'!H18="চট্টগ্রাম/কক্সবাজার", IF(I10<=9700, MAX(I10*0.55, 5000), IF(I10<=16000, MAX(I10*0.5, 5400), IF(I10<=35500, MAX(I10*0.45, 8000), MAX(I10*0.4, 16000)))), IF('Form-B (10 to 20 Grade)'!H18="হাটহাজারী/পূর্বাচল", IF(I10<=9700, MAX(I10*0.5, 4500), IF(I10<=16000, MAX(I10*0.45, 4800), IF(I10<=35500, MAX(I10*0.4, 7000), MAX(I10*0.35, 13800)))), 0))) -> 5000
B10: 5 | C10: Rvt †et †¯‹jÕ15 Abyhvqx RyjvB/26 gv‡mi M„nxZ g~j †eZb | I10: ='2015 S (10-20)'!B24 -> 8670
B11: 6 | C11: Rvt †et †¯‹jÕ Abyhvqx Ryb/26 cÖvc¨ g~j †eZb (wd‡·kb Gi 16bs Abyhvqx):
C12: 1g n‡Z 9g ‡MÖ‡Wi Rb¨ 50% | I12: ='Form-B (10 to 20 Grade)'!F34 -> 14125
B16: µ. bs | C16: gv‡mi bvg | D16: cÖvc¨ | G16: cwi‡kvwaZ | K16: e‡Kqv †eZb
D17: g~j †eZb (6bs Abyhvqx) | E17: evoxfvov fvZv (Ryb/26 Abyhvqx) | F17: ‡gvU UvKv | G17: g~j †eZb (5bs Abyhvqx) | H17: evoxfvov fvZv (RyjvB/26 gv‡m D‡ËvwjZ) | I17: we‡kl myweav (RyjvB/26 gv‡mi D‡ËvwjZ | J17: ‡gvU UvKv
B18: 1 | C18: RyjvBÕ26 | D18: =$I$12 -> 14125 | E18: =$N$8 -> 5000 | F18: =SUM(D18:E18) -> 19125 | G18: =$I$10 -> 8670 | H18: =$N$9 -> 5000 | I18: =MAX(G18*0.15, 1500) -> 1500 | J18: =SUM(G18:I18) -> 15170 | K18: =+F18-J18 -> 3955
B19: 2 | C19: AvMóÕ26 | D19: =$I$12 -> 14125 | E19: =$N$8 -> 5000 | F19: =SUM(D19:E19) -> 19125 | G19: =$I$10 -> 8670 | H19: =$N$9 -> 5000 | I19: =MAX(G19*0.15, 1500) -> 1500 | J19: =SUM(G19:I19) -> 15170 | K19: =+F19-J19 -> 3955
B20: 3 | C20: ‡m‡Þ¤^iÕ26 | D20: =$I$12 -> 14125 | E20: =$N$8 -> 5000 | F20: =SUM(D20:E20) -> 19125 | G20: =$I$10 -> 8670 | H20: =$N$9 -> 5000 | I20: =MAX(G20*0.15, 1500) -> 1500 | J20: =SUM(G20:I20) -> 15170 | K20: =+F20-J20 -> 3955
C21: †gvU | D21: =SUM(D18:D20) -> 42375 | E21: =SUM(E18:E20) -> 15000 | F21: =SUM(F18:F20) -> 57375 | G21: =SUM(G18:G20) -> 26010 | H21: =SUM(H18:H20) -> 15000 | I21: =SUM(I18:I20) -> 4500 | J21: =SUM(J18:J20) -> 45510 | K21: =SUM(K18:K20) -> 11865
C23: wet`ªt- D³ e‡Kqv †eZb wba©vibx c‡Îi Av‡jv‡K AwZwi³ †eZb D‡Ëvjb Kiv n‡j †dir w`‡Z AvcwË _vwK‡ebv|
J26: Kg©KZ©v/Kg©Pvixi ¯^v¶i

Sheet 2026 Grade list 10-20
A1: Grade_1 | B1: Grade_2 | C1: Grade_3 | D1: Grade_4 | E1: Grade_5 | F1: Grade_6 | G1: Grade_7 | H1: Grade_8 | I1: Grade_9 | J1: Grade_10 | K1: Grade_11 | L1: Grade_12 | M1: Grade_13 | N1: Grade_14 | O1: Grade_15 | P1: Grade_16 | Q1: Grade_17 | R1: Grade_18 | S1: Grade_19 | T1: Grade_20
A2: (Uv: 156000) | B2: (Uv: 132000-153000) | C2: (Uv: 113000-148800) | D2: (Uv: 100000-142400) | E2: (Uv: 86000-139700) | F2: (Uv: 71000-134000) | G2: (Uv: 58000-126800) | H2: (Uv: 46000-110800) | I2: (Uv: 44000-105900) | J2: (Uv: 32000-77300) | K2: (Uv: 25000-60500) | L2: (Uv: 24300-58700) | M2: (Uv: 24000-58000) | N2: (Uv: 23500-5680) | O2: (Uv: 22800-55200) | P2: (Uv: 21900-52900) | Q2: (Uv: 21400-51900) | R2: (Uv: 2100-50900) | S2: (Uv: 20500-49600) | T2: (Uv: 20000-48400)
A7: ='Form-B (10 to 20 Grade)'!H4 -> Grade_20 | B7: =INDEX($A$2:$T$2, ROW(A1), MATCH(A7, $A$1:$T$1, 0)) -> (Uv: 20000-48400)
D14: চট্টগ্রাম/কক্সবাজার
D15: ঢাকা
D16: হাটহাজারী/পূর্বাচল

Sheet 2015 Gtade list 10-20
A1: Grade_1 | B1: Grade_2 | C1: Grade_3 | D1: Grade_4 | E1: Grade_5 | F1: Grade_6 | G1: Grade_7 | H1: Grade_8 | I1: Grade_9 | J1: Grade_10 | K1: Grade_11 | L1: Grade_12 | M1: Grade_13 | N1: Grade_14 | O1: Grade_15 | P1: Grade_16 | Q1: Grade_17 | R1: Grade_18 | S1: Grade_19 | T1: Grade_20
A2: (Uv: 78000) | B2: (Uv: 66000-76490) | C2: (Uv: 56500-74400) | D2: (Uv: 50000-71200) | E2: (Uv: 43000-69850) | F2: (Uv: 35500-67010) | G2: (Uv: 29000-63410) | H2: (Uv: 23000-55470) | I2: (Uv: 22000-53060) | J2: (Uv: 16000-38640) | K2: (Uv: 12500-30230) | L2: (Uv: 11300-27300) | M2: (Uv: 11000-26590) | N2: (Uv: 10200-24680) | O2: (Uv: 9700-23490) | P2: (Uv: 9300-22490) | Q2: (Uv: 9000-21800) | R2: (Uv: 8800-21310) | S2: (Uv: 8500-20570) | T2: (Uv: 8250-20010)
A7: ='Form-B (10 to 20 Grade)'!H4 -> Grade_20 | B7: =INDEX($A$2:$T$2, ROW(A1), MATCH(A7, $A$1:$T$1, 0)) -> (Uv: 8250-20010)

Sheet 2015
A2: Grade_1 | B2: 78000
A3: Grade_2 | B3: 66000 | C3: 68480 | D3: 71050 | E3: 73720 | F3: 76490
A4: Grade_3 | B4: 56500 | C4: 58760 | D4: 61120 | E4: 63570 | F4: 66120 | G4: 68770 | H4: 71530 | I4: 74400
A5: Grade_4 | B5: 50000 | C5: 52000 | D5: 54080 | E5: 56250 | F5: 58500 | G5: 60840 | H5: 63280 | I5: 65820 | J5: 68460 | K5: 71200
A6: Grade_5 | B6: 43000 | C6: 44940 | D6: 46970 | E6: 49090 | F6: 51300 | G6: 53610 | H6: 56030 | I6: 58560 | J6: 61200 | K6: 63960 | L6: 66840 | M6: 69850
A7: Grade_6 | B7: 35500 | C7: 37280 | D7: 39150 | E7: 41110 | F7: 43170 | G7: 45330 | H7: 47600 | I7: 49980 | J7: 52480 | K7: 55110 | L7: 57870 | M7: 60770 | N7: 63810 | O7: 67010
A8: Grade_7 | B8: 29000 | C8: 30450 | D8: 31980 | E8: 33580 | F8: 35260 | G8: 37030 | H8: 38890 | I8: 40840 | J8: 42890 | K8: 45040 | L8: 47300 | M8: 49670 | N8: 52160 | O8: 54770 | P8: 57510 | Q8: 60390 | R8: 63410
A9: Grade_8 | B9: 23000 | C9: 24150 | D9: 25360 | E9: 26630 | F9: 27970 | G9: 29370 | H9: 30840 | I9: 32390 | J9: 34010 | K9: 35720 | L9: 37510 | M9: 39390 | N9: 41360 | O9: 43430 | P9: 45610 | Q9: 47900 | R9: 50300 | S9: 52820 | T9: 55470
A10: Grade_9 | B10: 22000 | C10: 23100 | D10: 24260 | E10: 25480 | F10: 26760 | G10: 28100 | H10: 29510 | I10: 30990 | J10: 32540 | K10: 34170 | L10: 35880 | M10: 37680 | N10: 39570 | O10: 41550 | P10: 43630 | Q10: 45820 | R10: 48120 | S10: 50530 | T10: 53060
A11: Grade_10 | B11: 16000 | C11: 16800 | D11: 17640 | E11: 18530 | F11: 19460 | G11: 20440 | H11: 21470 | I11: 22550 | J11: 23680 | K11: 24870 | L11: 26120 | M11: 27430 | N11: 28810 | O11: 30260 | P11: 31780 | Q11: 33370 | R11: 35040 | S11: 36800 | T11: 38640
A12: Grade_11 | B12: 12500 | C12: 13130 | D12: 13790 | E12: 14480 | F12: 15210 | G12: 15980 | H12: 16780 | I12: 17620 | J12: 18510 | K12: 19440 | L12: 20420 | M12: 21450 | N12: 22530 | O12: 23660 | P12: 24850 | Q12: 26100 | R12: 27410 | S12: 28790 | T12: 30230
A13: Grade_12 | B13: 11300 | C13: 11870 | D13: 12470 | E13: 13100 | F13: 13760 | G13: 14450 | H13: 15180 | I13: 15940 | J13: 16740 | K13: 17580 | L13: 18460 | M13: 19390 | N13: 20360 | O13: 21380 | P13: 22450 | Q13: 23580 | R13: 24760 | S13: 26000 | T13: 27300
A14: Grade_13 | B14: 11000 | C14: 11550 | D14: 12130 | E14: 12740 | F14: 13380 | G14: 14050 | H14: 14760 | I14: 15500 | J14: 16280 | K14: 17100 | L14: 17960 | M14: 18860 | N14: 19810 | O14: 20810 | P14: 21860 | Q14: 22960 | R14: 24110 | S14: 25320 | T14: 26590
A15: Grade_14 | B15: 10200 | C15: 10710 | D15: 11250 | E15: 11820 | F15: 12420 | G15: 13050 | H15: 13710 | I15: 14400 | J15: 15120 | K15: 15880 | L15: 16680 | M15: 17520 | N15: 18400 | O15: 19320 | P15: 20290 | Q15: 21310 | R15: 22380 | S15: 23500 | T15: 24680
A16: Grade_15 | B16: 9700 | C16: 10190 | D16: 10700 | E16: 11240 | F16: 11810 | G16: 12410 | H16: 13040 | I16: 13700 | J16: 14390 | K16: 15110 | L16: 15870 | M16: 16670 | N16: 17510 | O16: 18390 | P16: 19310 | Q16: 20280 | R16: 21300 | S16: 22370 | T16: 23490
A17: Grade_16 | B17: 9300 | C17: 9770 | D17: 10260 | E17: 10780 | F17: 11320 | G17: 11890 | H17: 12490 | I17: 13120 | J17: 13780 | K17: 14470 | L17: 15200 | M17: 15960 | N17: 16760 | O17: 17600 | P17: 18480 | Q17: 19410 | R17: 20390 | S17: 21410 | T17: 22490
A18: Grade_17 | B18: 9000 | C18: 9450 | D18: 9930 | E18: 10430 | F18: 10960 | G18: 11510 | H18: 12090 | I18: 12700 | J18: 13340 | K18: 14010 | L18: 14720 | M18: 15460 | N18: 16240 | O18: 17060 | P18: 17920 | Q18: 18820 | R18: 19770 | S18: 20760 | T18: 21800
A19: Grade_18 | B19: 8800 | C19: 9240 | D19: 9710 | E19: 10200 | F19: 10710 | G19: 11250 | H19: 11820 | I19: 12420 | J19: 13050 | K19: 13710 | L19: 14400 | M19: 15120 | N19: 15880 | O19: 16680 | P19: 17520 | Q19: 18400 | R19: 19320 | S19: 20290 | T19: 21310
A20: Grade_19 | B20: 8500 | C20: 8930 | D20: 9380 | E20: 9850 | F20: 10350 | G20: 10870 | H20: 11420 | I20: 12000 | J20: 12600 | K20: 13230 | L20: 13900 | M20: 14600 | N20: 15330 | O20: 16100 | P20: 16910 | Q20: 17760 | R20: 18650 | S20: 19590 | T20: 20570
A21: Grade_20 | B21: 8250 | C21: 8670 | D21: 9110 | E21: 9570 | F21: 10050 | G21: 10560 | H21: 11090 | I21: 11650 | J21: 12240 | K21: 12860 | L21: 13510 | M21: 14190 | N21: 14900 | O21: 15650 | P21: 16440 | Q21: 17270 | R21: 18140 | S21: 19050 | T21: 20010
H37: Grade_1 | I37: Grade_2 | J37: Grade_3 | K37: Grade_4 | L37: Grade_5 | M37: Grade_6 | N37: Grade_7 | O37: Grade_8 | P37: Grade_9 | Q37: Grade_10 | R37: Grade_11 | S37: Grade_12 | T37: Grade_13 | U37: Grade_14 | V37: Grade_15 | W37: Grade_16 | X37: Grade_17 | Y37: Grade_18 | Z37: Grade_19 | AA37: Grade_20
H38: 78000 | I38: 66000 | J38: 56500 | K38: 50000 | L38: 43000 | M38: 35500 | N38: 29000 | O38: 23000 | P38: 22000 | Q38: 16000 | R38: 12500 | S38: 11300 | T38: 11000 | U38: 10200 | V38: 9700 | W38: 9300 | X38: 9000 | Y38: 8800 | Z38: 8500 | AA38: 8250
I39: 68480 | J39: 58760 | K39: 52000 | L39: 44940 | M39: 37280 | N39: 30450 | O39: 24150 | P39: 23100 | Q39: 16800 | R39: 13130 | S39: 11870 | T39: 11550 | U39: 10710 | V39: 10190 | W39: 9770 | X39: 9450 | Y39: 9240 | Z39: 8930 | AA39: 8670
I40: 71050 | J40: 61120 | K40: 54080 | L40: 46970 | M40: 39150 | N40: 31980 | O40: 25360 | P40: 24260 | Q40: 17640 | R40: 13790 | S40: 12470 | T40: 12130 | U40: 11250 | V40: 10700 | W40: 10260 | X40: 9930 | Y40: 9710 | Z40: 9380 | AA40: 9110
I41: 73720 | J41: 63570 | K41: 56250 | L41: 49090 | M41: 41110 | N41: 33580 | O41: 26630 | P41: 25480 | Q41: 18530 | R41: 14480 | S41: 13100 | T41: 12740 | U41: 11820 | V41: 11240 | W41: 10780 | X41: 10430 | Y41: 10200 | Z41: 9850 | AA41: 9570
I42: 76490 | J42: 66120 | K42: 58500 | L42: 51300 | M42: 43170 | N42: 35260 | O42: 27970 | P42: 26760 | Q42: 19460 | R42: 15210 | S42: 13760 | T42: 13380 | U42: 12420 | V42: 11810 | W42: 11320 | X42: 10960 | Y42: 10710 | Z42: 10350 | AA42: 10050
J43: 68770 | K43: 60840 | L43: 53610 | M43: 45330 | N43: 37030 | O43: 29370 | P43: 28100 | Q43: 20440 | R43: 15980 | S43: 14450 | T43: 14050 | U43: 13050 | V43: 12410 | W43: 11890 | X43: 11510 | Y43: 11250 | Z43: 10870 | AA43: 10560
J44: 71530 | K44: 63280 | L44: 56030 | M44: 47600 | N44: 38890 | O44: 30840 | P44: 29510 | Q44: 21470 | R44: 16780 | S44: 15180 | T44: 14760 | U44: 13710 | V44: 13040 | W44: 12490 | X44: 12090 | Y44: 11820 | Z44: 11420 | AA44: 11090
J45: 74400 | K45: 65820 | L45: 58560 | M45: 49980 | N45: 40840 | O45: 32390 | P45: 30990 | Q45: 22550 | R45: 17620 | S45: 15940 | T45: 15500 | U45: 14400 | V45: 13700 | W45: 13120 | X45: 12700 | Y45: 12420 | Z45: 12000 | AA45: 11650
K46: 68460 | L46: 61200 | M46: 52480 | N46: 42890 | O46: 34010 | P46: 32540 | Q46: 23680 | R46: 18510 | S46: 16740 | T46: 16280 | U46: 15120 | V46: 14390 | W46: 13780 | X46: 13340 | Y46: 13050 | Z46: 12600 | AA46: 12240
K47: 71200 | L47: 63960 | M47: 55110 | N47: 45040 | O47: 35720 | P47: 34170 | Q47: 24870 | R47: 19440 | S47: 17580 | T47: 17100 | U47: 15880 | V47: 15110 | W47: 14470 | X47: 14010 | Y47: 13710 | Z47: 13230 | AA47: 12860
L48: 66840 | M48: 57870 | N48: 47300 | O48: 37510 | P48: 35880 | Q48: 26120 | R48: 20420 | S48: 18460 | T48: 17960 | U48: 16680 | V48: 15870 | W48: 15200 | X48: 14720 | Y48: 14400 | Z48: 13900 | AA48: 13510
L49: 69850 | M49: 60770 | N49: 49670 | O49: 39390 | P49: 37680 | Q49: 27430 | R49: 21450 | S49: 19390 | T49: 18860 | U49: 17520 | V49: 16670 | W49: 15960 | X49: 15460 | Y49: 15120 | Z49: 14600 | AA49: 14190
M50: 63810 | N50: 52160 | O50: 41360 | P50: 39570 | Q50: 28810 | R50: 22530 | S50: 20360 | T50: 19810 | U50: 18400 | V50: 17510 | W50: 16760 | X50: 16240 | Y50: 15880 | Z50: 15330 | AA50: 14900
M51: 67010 | N51: 54770 | O51: 43430 | P51: 41550 | Q51: 30260 | R51: 23660 | S51: 21380 | T51: 20810 | U51: 19320 | V51: 18390 | W51: 17600 | X51: 17060 | Y51: 16680 | Z51: 16100 | AA51: 15650
N52: 57510 | O52: 45610 | P52: 43630 | Q52: 31780 | R52: 24850 | S52: 22450 | T52: 21860 | U52: 20290 | V52: 19310 | W52: 18480 | X52: 17920 | Y52: 17520 | Z52: 16910 | AA52: 16440
N53: 60390 | O53: 47900 | P53: 45820 | Q53: 33370 | R53: 26100 | S53: 23580 | T53: 22960 | U53: 21310 | V53: 20280 | W53: 19410 | X53: 18820 | Y53: 18400 | Z53: 17760 | AA53: 17270
N54: 63410 | O54: 50300 | P54: 48120 | Q54: 35040 | R54: 27410 | S54: 24760 | T54: 24110 | U54: 22380 | V54: 21300 | W54: 20390 | X54: 19770 | Y54: 19320 | Z54: 18650 | AA54: 18140
O55: 52820 | P55: 50530 | Q55: 36800 | R55: 28790 | S55: 26000 | T55: 25320 | U55: 23500 | V55: 22370 | W55: 21410 | X55: 20760 | Y55: 20290 | Z55: 19590 | AA55: 19050
O56: 55470 | P56: 53060 | Q56: 38640 | R56: 30230 | S56: 27300 | T56: 26590 | U56: 24680 | V56: 23490 | W56: 22490 | X56: 21800 | Y56: 21310 | Z56: 20570 | AA56: 20010

Sheet 2015 S (10-20)
A1: Grade_1 | B1: Grade_2 | C1: Grade_3 | D1: Grade_4 | E1: Grade_5 | F1: Grade_6 | G1: Grade_7 | H1: Grade_8 | I1: Grade_9 | J1: Grade_10 | K1: Grade_11 | L1: Grade_12 | M1: Grade_13 | N1: Grade_14 | O1: Grade_15 | P1: Grade_16 | Q1: Grade_17 | R1: Grade_18 | S1: Grade_19 | T1: Grade_20
A2: 78000 | B2: 66000 | C2: 56500 | D2: 50000 | E2: 43000 | F2: 35500 | G2: 29000 | H2: 23000 | I2: 22000 | J2: 16000 | K2: 12500 | L2: 11300 | M2: 11000 | N2: 10200 | O2: 9700 | P2: 9300 | Q2: 9000 | R2: 8800 | S2: 8500 | T2: 8250
B3: 68480 | C3: 58760 | D3: 52000 | E3: 44940 | F3: 37280 | G3: 30450 | H3: 24150 | I3: 23100 | J3: 16800 | K3: 13130 | L3: 11870 | M3: 11550 | N3: 10710 | O3: 10190 | P3: 9770 | Q3: 9450 | R3: 9240 | S3: 8930 | T3: 8670
B4: 71050 | C4: 61120 | D4: 54080 | E4: 46970 | F4: 39150 | G4: 31980 | H4: 25360 | I4: 24260 | J4: 17640 | K4: 13790 | L4: 12470 | M4: 12130 | N4: 11250 | O4: 10700 | P4: 10260 | Q4: 9930 | R4: 9710 | S4: 9380 | T4: 9110
B5: 73720 | C5: 63570 | D5: 56250 | E5: 49090 | F5: 41110 | G5: 33580 | H5: 26630 | I5: 25480 | J5: 18530 | K5: 14480 | L5: 13100 | M5: 12740 | N5: 11820 | O5: 11240 | P5: 10780 | Q5: 10430 | R5: 10200 | S5: 9850 | T5: 9570
B6: 76490 | C6: 66120 | D6: 58500 | E6: 51300 | F6: 43170 | G6: 35260 | H6: 27970 | I6: 26760 | J6: 19460 | K6: 15210 | L6: 13760 | M6: 13380 | N6: 12420 | O6: 11810 | P6: 11320 | Q6: 10960 | R6: 10710 | S6: 10350 | T6: 10050
C7: 68770 | D7: 60840 | E7: 53610 | F7: 45330 | G7: 37030 | H7: 29370 | I7: 28100 | J7: 20440 | K7: 15980 | L7: 14450 | M7: 14050 | N7: 13050 | O7: 12410 | P7: 11890 | Q7: 11510 | R7: 11250 | S7: 10870 | T7: 10560
C8: 71530 | D8: 63280 | E8: 56030 | F8: 47600 | G8: 38890 | H8: 30840 | I8: 29510 | J8: 21470 | K8: 16780 | L8: 15180 | M8: 14760 | N8: 13710 | O8: 13040 | P8: 12490 | Q8: 12090 | R8: 11820 | S8: 11420 | T8: 11090
C9: 74400 | D9: 65820 | E9: 58560 | F9: 49980 | G9: 40840 | H9: 32390 | I9: 30990 | J9: 22550 | K9: 17620 | L9: 15940 | M9: 15500 | N9: 14400 | O9: 13700 | P9: 13120 | Q9: 12700 | R9: 12420 | S9: 12000 | T9: 11650
D10: 68460 | E10: 61200 | F10: 52480 | G10: 42890 | H10: 34010 | I10: 32540 | J10: 23680 | K10: 18510 | L10: 16740 | M10: 16280 | N10: 15120 | O10: 14390 | P10: 13780 | Q10: 13340 | R10: 13050 | S10: 12600 | T10: 12240
D11: 71200 | E11: 63960 | F11: 55110 | G11: 45040 | H11: 35720 | I11: 34170 | J11: 24870 | K11: 19440 | L11: 17580 | M11: 17100 | N11: 15880 | O11: 15110 | P11: 14470 | Q11: 14010 | R11: 13710 | S11: 13230 | T11: 12860
E12: 66840 | F12: 57870 | G12: 47300 | H12: 37510 | I12: 35880 | J12: 26120 | K12: 20420 | L12: 18460 | M12: 17960 | N12: 16680 | O12: 15870 | P12: 15200 | Q12: 14720 | R12: 14400 | S12: 13900 | T12: 13510
E13: 69850 | F13: 60770 | G13: 49670 | H13: 39390 | I13: 37680 | J13: 27430 | K13: 21450 | L13: 19390 | M13: 18860 | N13: 17520 | O13: 16670 | P13: 15960 | Q13: 15460 | R13: 15120 | S13: 14600 | T13: 14190
F14: 63810 | G14: 52160 | H14: 41360 | I14: 39570 | J14: 28810 | K14: 22530 | L14: 20360 | M14: 19810 | N14: 18400 | O14: 17510 | P14: 16760 | Q14: 16240 | R14: 15880 | S14: 15330 | T14: 14900
F15: 67010 | G15: 54770 | H15: 43430 | I15: 41550 | J15: 30260 | K15: 23660 | L15: 21380 | M15: 20810 | N15: 19320 | O15: 18390 | P15: 17600 | Q15: 17060 | R15: 16680 | S15: 16100 | T15: 15650
G16: 57510 | H16: 45610 | I16: 43630 | J16: 31780 | K16: 24850 | L16: 22450 | M16: 21860 | N16: 20290 | O16: 19310 | P16: 18480 | Q16: 17920 | R16: 17520 | S16: 16910 | T16: 16440
G17: 60390 | H17: 47900 | I17: 45820 | J17: 33370 | K17: 26100 | L17: 23580 | M17: 22960 | N17: 21310 | O17: 20280 | P17: 19410 | Q17: 18820 | R17: 18400 | S17: 17760 | T17: 17270
G18: 63410 | H18: 50300 | I18: 48120 | J18: 35040 | K18: 27410 | L18: 24760 | M18: 24110 | N18: 22380 | O18: 21300 | P18: 20390 | Q18: 19770 | R18: 19320 | S18: 18650 | T18: 18140
H19: 52820 | I19: 50530 | J19: 36800 | K19: 28790 | L19: 26000 | M19: 25320 | N19: 23500 | O19: 22370 | P19: 21410 | Q19: 20760 | R19: 20290 | S19: 19590 | T19: 19050
H20: 55470 | I20: 53060 | J20: 38640 | K20: 30230 | L20: 27300 | M20: 26590 | N20: 24680 | O20: 23490 | P20: 22490 | Q20: 21800 | R20: 21310 | S20: 20570 | T20: 20010
A24: {=INDEX(E25:E43, MATCH(TRUE, VALUE(SUBSTITUTE(E25:E43, ",", "")) >= E24, 0))} -> 8250 | B24: {=IFERROR(INDEX($I$25:$I$43, MATCH(TRUE, VALUE(SUBSTITUTE($I$25:$I$43, ",", "")) > I24, 0)), MAX(VALUE(SUBSTITUTE($I$25:$I$43, ",", ""))))} -> 8670 | C24: {=IFERROR(INDEX($M$25:$M$43, MATCH(TRUE, VALUE(SUBSTITUTE($M$25:$M$43, ",", "")) > M24, 0)), MAX(VALUE(SUBSTITUTE($M$25:$M$43, ",", ""))))} -> 9110 | E24: ='Arrear 10 to 20 Grade'!I9 -> 8250 | I24: =A24 -> 8250 | M24: =B24 -> 8670
D25: ='Form-B (10 to 20 Grade)'!$H$4 -> Grade_20 | E25: =INDEX($A$2:$T$21, ROW(A1), MATCH(D25, $A$1:$T$1, 0)) -> 8250 | H25: ='Form-B (10 to 20 Grade)'!$H$4 -> Grade_20 | I25: =INDEX($A$2:$T$21, ROW(E1), MATCH(H25, $A$1:$T$1, 0)) -> 8250 | L25: ='Form-B (10 to 20 Grade)'!$H$4 -> Grade_20 | M25: =INDEX($A$2:$T$21, ROW(I1), MATCH(L25, $A$1:$T$1, 0)) -> 8250
D26: ='Form-B (10 to 20 Grade)'!$H$4 -> Grade_20 | E26: =INDEX($A$2:$T$21, ROW(A2), MATCH(D26, $A$1:$T$1, 0)) -> 8670 | H26: ='Form-B (10 to 20 Grade)'!$H$4 -> Grade_20 | I26: =INDEX($A$2:$T$21, ROW(E2), MATCH(H26, $A$1:$T$1, 0)) -> 8670 | L26: ='Form-B (10 to 20 Grade)'!$H$4 -> Grade_20 | M26: =INDEX($A$2:$T$21, ROW(I2), MATCH(L26, $A$1:$T$1, 0)) -> 8670
D27: ='Form-B (10 to 20 Grade)'!$H$4 -> Grade_20 | E27: =INDEX($A$2:$T$21, ROW(A3), MATCH(D27, $A$1:$T$1, 0)) -> 9110 | H27: ='Form-B (10 to 20 Grade)'!$H$4 -> Grade_20 | I27: =INDEX($A$2:$T$21, ROW(E3), MATCH(H27, $A$1:$T$1, 0)) -> 9110 | L27: ='Form-B (10 to 20 Grade)'!$H$4 -> Grade_20 | M27: =INDEX($A$2:$T$21, ROW(I3), MATCH(L27, $A$1:$T$1, 0)) -> 9110
D28: ='Form-B (10 to 20 Grade)'!$H$4 -> Grade_20 | E28: =INDEX($A$2:$T$21, ROW(A4), MATCH(D28, $A$1:$T$1, 0)) -> 9570 | H28: ='Form-B (10 to 20 Grade)'!$H$4 -> Grade_20 | I28: =INDEX($A$2:$T$21, ROW(E4), MATCH(H28, $A$1:$T$1, 0)) -> 9570 | L28: ='Form-B (10 to 20 Grade)'!$H$4 -> Grade_20 | M28: =INDEX($A$2:$T$21, ROW(I4), MATCH(L28, $A$1:$T$1, 0)) -> 9570
D29: ='Form-B (10 to 20 Grade)'!$H$4 -> Grade_20 | E29: =INDEX($A$2:$T$21, ROW(A5), MATCH(D29, $A$1:$T$1, 0)) -> 10050 | H29: ='Form-B (10 to 20 Grade)'!$H$4 -> Grade_20 | I29: =INDEX($A$2:$T$21, ROW(E5), MATCH(H29, $A$1:$T$1, 0)) -> 10050 | L29: ='Form-B (10 to 20 Grade)'!$H$4 -> Grade_20 | M29: =INDEX($A$2:$T$21, ROW(I5), MATCH(L29, $A$1:$T$1, 0)) -> 10050
D30: ='Form-B (10 to 20 Grade)'!$H$4 -> Grade_20 | E30: =INDEX($A$2:$T$21, ROW(A6), MATCH(D30, $A$1:$T$1, 0)) -> 10560 | H30: ='Form-B (10 to 20 Grade)'!$H$4 -> Grade_20 | I30: =INDEX($A$2:$T$21, ROW(E6), MATCH(H30, $A$1:$T$1, 0)) -> 10560 | L30: ='Form-B (10 to 20 Grade)'!$H$4 -> Grade_20 | M30: =INDEX($A$2:$T$21, ROW(I6), MATCH(L30, $A$1:$T$1, 0)) -> 10560
D31: ='Form-B (10 to 20 Grade)'!$H$4 -> Grade_20 | E31: =INDEX($A$2:$T$21, ROW(A7), MATCH(D31, $A$1:$T$1, 0)) -> 11090 | H31: ='Form-B (10 to 20 Grade)'!$H$4 -> Grade_20 | I31: =INDEX($A$2:$T$21, ROW(E7), MATCH(H31, $A$1:$T$1, 0)) -> 11090 | L31: ='Form-B (10 to 20 Grade)'!$H$4 -> Grade_20 | M31: =INDEX($A$2:$T$21, ROW(I7), MATCH(L31, $A$1:$T$1, 0)) -> 11090
D32: ='Form-B (10 to 20 Grade)'!$H$4 -> Grade_20 | E32: =INDEX($A$2:$T$21, ROW(A8), MATCH(D32, $A$1:$T$1, 0)) -> 11650 | H32: ='Form-B (10 to 20 Grade)'!$H$4 -> Grade_20 | I32: =INDEX($A$2:$T$21, ROW(E8), MATCH(H32, $A$1:$T$1, 0)) -> 11650 | L32: ='Form-B (10 to 20 Grade)'!$H$4 -> Grade_20 | M32: =INDEX($A$2:$T$21, ROW(I8), MATCH(L32, $A$1:$T$1, 0)) -> 11650
D33: ='Form-B (10 to 20 Grade)'!$H$4 -> Grade_20 | E33: =INDEX($A$2:$T$21, ROW(A9), MATCH(D33, $A$1:$T$1, 0)) -> 12240 | H33: ='Form-B (10 to 20 Grade)'!$H$4 -> Grade_20 | I33: =INDEX($A$2:$T$21, ROW(E9), MATCH(H33, $A$1:$T$1, 0)) -> 12240 | L33: ='Form-B (10 to 20 Grade)'!$H$4 -> Grade_20 | M33: =INDEX($A$2:$T$21, ROW(I9), MATCH(L33, $A$1:$T$1, 0)) -> 12240
D34: ='Form-B (10 to 20 Grade)'!$H$4 -> Grade_20 | E34: =INDEX($A$2:$T$21, ROW(A10), MATCH(D34, $A$1:$T$1, 0)) -> 12860 | H34: ='Form-B (10 to 20 Grade)'!$H$4 -> Grade_20 | I34: =INDEX($A$2:$T$21, ROW(E10), MATCH(H34, $A$1:$T$1, 0)) -> 12860 | L34: ='Form-B (10 to 20 Grade)'!$H$4 -> Grade_20 | M34: =INDEX($A$2:$T$21, ROW(I10), MATCH(L34, $A$1:$T$1, 0)) -> 12860
D35: ='Form-B (10 to 20 Grade)'!$H$4 -> Grade_20 | E35: =INDEX($A$2:$T$21, ROW(A11), MATCH(D35, $A$1:$T$1, 0)) -> 13510 | H35: ='Form-B (10 to 20 Grade)'!$H$4 -> Grade_20 | I35: =INDEX($A$2:$T$21, ROW(E11), MATCH(H35, $A$1:$T$1, 0)) -> 13510 | L35: ='Form-B (10 to 20 Grade)'!$H$4 -> Grade_20 | M35: =INDEX($A$2:$T$21, ROW(I11), MATCH(L35, $A$1:$T$1, 0)) -> 13510
D36: ='Form-B (10 to 20 Grade)'!$H$4 -> Grade_20 | E36: =INDEX($A$2:$T$21, ROW(A12), MATCH(D36, $A$1:$T$1, 0)) -> 14190 | H36: ='Form-B (10 to 20 Grade)'!$H$4 -> Grade_20 | I36: =INDEX($A$2:$T$21, ROW(E12), MATCH(H36, $A$1:$T$1, 0)) -> 14190 | L36: ='Form-B (10 to 20 Grade)'!$H$4 -> Grade_20 | M36: =INDEX($A$2:$T$21, ROW(I12), MATCH(L36, $A$1:$T$1, 0)) -> 14190
... D44: ='Form-B (10 to 20 Grade)'!$H$4 -> Grade_20 | E44: =INDEX($A$2:$T$21, ROW(A20), MATCH(D44, $A$1:$T$1, 0)) -> 0 | H44: ='Form-B (10 to 20 Grade)'!$H$4 -> Grade_20 | I44: =INDEX($A$2:$T$21, ROW(E20), MATCH(H44, $A$1:$T$1, 0)) -> 0 | L44: ='Form-B (10 to 20 Grade)'!$H$4 -> Grade_20 | M44: =INDEX($A$2:$T$21, ROW(I20), MATCH(L44, $A$1:$T$1, 0)) -> 0

Sheet 2026
A2: Grade_1 | B2: 156000
A3: Grade_2 | B3: 132000 | C3: 135700 | D3: 139400 | E3: 143200 | F3: 147200 | G3: 151200 | H3: 153000
A4: Grade_3 | B4: 113000 | C4: 117000 | D4: 121100 | E4: 125300 | F4: 129700 | G4: 134300 | H4: 139000 | I4: 143800 | J4: 148800
A5: Grade_4 | B5: 100000 | C5: 103500 | D5: 107200 | E5: 110900 | F5: 114800 | G5: 118800 | H5: 123000 | I5: 127300 | J5: 131700 | K5: 136300 | L5: 142400
A6: Grade_5 | B6: 86000 | C6: 89500 | D6: 93100 | E6: 96800 | F6: 100700 | G6: 104700 | H6: 108900 | I6: 113200 | J6: 117700 | K6: 122500 | L6: 127400 | M6: 132400 | N6: 139700
A7: Grade_6 | B7: 71000 | C7: 74600 | D7: 78300 | E7: 82200 | F7: 86400 | G7: 90700 | H7: 95200 | I7: 100000 | J7: 104900 | K7: 110200 | L7: 115700 | M7: 121500 | N7: 127600 | O7: 134000
A8: Grade_7 | B8: 58000 | C8: 60900 | D8: 64000 | E8: 67200 | F8: 70500 | G8: 74100 | H8: 77800 | I8: 81700 | J8: 85700 | K8: 90000 | L8: 94500 | M8: 99200 | N8: 104200 | O8: 109400 | P8: 114900 | Q8: 120600 | R8: 126800
A9: Grade_8 | B9: 46000 | C9: 48300 | D9: 50800 | E9: 53300 | F9: 56000 | G9: 58800 | H9: 61700 | I9: 64800 | J9: 68000 | K9: 71400 | L9: 75000 | M9: 78700 | N9: 82700 | O9: 86800 | P9: 91100 | Q9: 95700 | R9: 100500 | S9: 105500 | T9: 110800
A10: Grade_9 | B10: 44000 | C10: 46200 | D10: 48600 | E10: 51000 | F10: 53500 | G10: 56200 | H10: 59000 | I10: 62000 | J10: 65100 | K10: 68300 | L10: 71700 | M10: 75300 | N10: 79100 | O10: 83000 | P10: 87200 | Q10: 91500 | R10: 96100 | S10: 100900 | T10: 105900
A11: Grade_10 | B11: 32000 | C11: 33600 | D11: 35300 | E11: 37100 | F11: 38900 | G11: 40900 | H11: 42900 | I11: 45100 | J11: 47300 | K11: 49700 | L11: 52200 | M11: 54800 | N11: 57500 | O11: 60400 | P11: 63400 | Q11: 66600 | R11: 69900 | S11: 73400 | T11: 77300
A12: Grade_11 | B12: 25000 | C12: 26300 | D12: 27600 | E12: 29000 | F12: 30400 | G12: 32000 | H12: 33600 | I12: 35200 | J12: 37000 | K12: 38800 | L12: 40800 | M12: 42800 | N12: 44900 | O12: 47200 | P12: 49500 | Q12: 52000 | R12: 54600 | S12: 57300 | T12: 60500
A13: Grade_12 | B13: 24300 | C13: 25600 | D13: 26800 | E13: 28200 | F13: 29600 | G13: 31100 | H13: 32600 | I13: 34200 | J13: 36000 | K13: 37700 | L13: 39600 | M13: 41600 | N13: 43700 | O13: 45900 | P13: 48200 | Q13: 50600 | R13: 53100 | S13: 55700 | T13: 58700
A14: Grade_13 | B14: 24000 | C14: 25200 | D14: 26500 | E14: 27800 | F14: 29200 | G14: 30700 | H14: 32200 | I14: 33800 | J14: 35500 | K14: 37300 | L14: 39100 | M14: 41100 | N14: 43200 | O14: 45300 | P14: 47600 | Q14: 49900 | R14: 52400 | S14: 55100 | T14: 58000
A15: Grade_14 | B15: 23500 | C15: 24700 | D15: 26000 | E15: 27300 | F15: 28600 | G15: 30000 | H15: 31500 | I15: 33100 | J15: 34800 | K15: 36500 | L15: 38300 | M15: 40200 | N15: 42300 | O15: 44400 | P15: 46600 | Q15: 48900 | R15: 51300 | S15: 53900 | T15: 56800
A16: Grade_15 | B16: 22800 | C16: 24000 | D16: 25200 | E16: 26400 | F16: 27800 | G16: 29100 | H16: 30600 | I16: 32100 | J16: 33700 | K16: 35400 | L16: 37200 | M16: 39000 | N16: 41000 | O16: 43000 | P16: 45200 | Q16: 47400 | R16: 49800 | S16: 52300 | T16: 55200
A17: Grade_16 | B17: 21900 | C17: 23000 | D17: 24200 | E17: 25400 | F17: 26700 | G17: 28000 | H17: 29400 | I17: 30900 | J17: 32400 | K17: 34000 | L17: 35700 | M17: 37500 | N17: 39400 | O17: 41300 | P17: 43400 | Q17: 45600 | R17: 47900 | S17: 50200 | T17: 52900
A18: Grade_17 | B18: 21400 | C18: 22500 | D18: 23600 | E18: 24800 | F18: 26100 | G18: 27400 | H18: 28700 | I18: 30200 | J18: 31700 | K18: 33200 | L18: 34900 | M18: 36700 | N18: 38500 | O18: 40400 | P18: 42400 | Q18: 44500 | R18: 46800 | S18: 49100 | T18: 51900
A19: Grade_18 | B19: 21000 | C19: 22100 | D19: 23200 | E19: 24400 | F19: 25600 | G19: 26900 | H19: 28200 | I19: 29600 | J19: 31100 | K19: 32600 | L19: 34300 | M19: 36000 | N19: 37800 | O19: 39600 | P19: 41600 | Q19: 43700 | R19: 45900 | S19: 48200 | T19: 50900
A20: Grade_19 | B20: 20500 | C20: 21600 | D20: 22700 | E20: 23800 | F20: 25000 | G20: 26200 | H20: 27500 | I20: 28900 | J20: 30300 | K20: 31900 | L20: 33400 | M20: 35100 | N20: 36900 | O20: 38700 | P20: 40600 | Q20: 42700 | R20: 44800 | S20: 47000 | T20: 49600
A21: Grade_20 | B21: 20000 | C21: 21000 | D21: 22100 | E21: 23200 | F21: 24400 | G21: 25600 | H21: 26900 | I21: 28200 | J21: 29600 | K21: 31100 | L21: 32600 | M21: 34300 | N21: 36000 | O21: 37800 | P21: 39600 | Q21: 41600 | R21: 43700 | S21: 45900 | T21: 48400

Sheet Sheet3
A1: Grade_1 | B1: Grade_2 | C1: Grade_3 | D1: Grade_4 | E1: Grade_5 | F1: Grade_6 | G1: Grade_7 | H1: Grade_8 | I1: Grade_9 | J1: Grade_10 | K1: Grade_11 | L1: Grade_12 | M1: Grade_13 | N1: Grade_14 | O1: Grade_15 | P1: Grade_16 | Q1: Grade_17 | R1: Grade_18 | S1: Grade_19 | T1: Grade_20
A2: 156000 | B2: 132000 | C2: 113000 | D2: 100000 | E2: 86000 | F2: 71000 | G2: 58000 | H2: 46000 | I2: 44000 | J2: 32000 | K2: 25000 | L2: 24300 | M2: 24000 | N2: 23500 | O2: 22800 | P2: 21900 | Q2: 21400 | R2: 21000 | S2: 20500 | T2: 20000
B3: 135700 | C3: 117000 | D3: 103500 | E3: 89500 | F3: 74600 | G3: 60900 | H3: 48300 | I3: 46200 | J3: 33600 | K3: 26300 | L3: 25600 | M3: 25200 | N3: 24700 | O3: 24000 | P3: 23000 | Q3: 22500 | R3: 22100 | S3: 21600 | T3: 21000
B4: 139400 | C4: 121100 | D4: 107200 | E4: 93100 | F4: 78300 | G4: 64000 | H4: 50800 | I4: 48600 | J4: 35300 | K4: 27600 | L4: 26800 | M4: 26500 | N4: 26000 | O4: 25200 | P4: 24200 | Q4: 23600 | R4: 23200 | S4: 22700 | T4: 22100
B5: 143200 | C5: 125300 | D5: 110900 | E5: 96800 | F5: 82200 | G5: 67200 | H5: 53300 | I5: 51000 | J5: 37100 | K5: 29000 | L5: 28200 | M5: 27800 | N5: 27300 | O5: 26400 | P5: 25400 | Q5: 24800 | R5: 24400 | S5: 23800 | T5: 23200
B6: 147200 | C6: 129700 | D6: 114800 | E6: 100700 | F6: 86400 | G6: 70500 | H6: 56000 | I6: 53500 | J6: 38900 | K6: 30400 | L6: 29600 | M6: 29200 | N6: 28600 | O6: 27800 | P6: 26700 | Q6: 26100 | R6: 25600 | S6: 25000 | T6: 24400
B7: 151200 | C7: 134300 | D7: 118800 | E7: 104700 | F7: 90700 | G7: 74100 | H7: 58800 | I7: 56200 | J7: 40900 | K7: 32000 | L7: 31100 | M7: 30700 | N7: 30000 | O7: 29100 | P7: 28000 | Q7: 27400 | R7: 26900 | S7: 26200 | T7: 25600
B8: 153000 | C8: 139000 | D8: 123000 | E8: 108900 | F8: 95200 | G8: 77800 | H8: 61700 | I8: 59000 | J8: 42900 | K8: 33600 | L8: 32600 | M8: 32200 | N8: 31500 | O8: 30600 | P8: 29400 | Q8: 28700 | R8: 28200 | S8: 27500 | T8: 26900
C9: 143800 | D9: 127300 | E9: 113200 | F9: 100000 | G9: 81700 | H9: 64800 | I9: 62000 | J9: 45100 | K9: 35200 | L9: 34200 | M9: 33800 | N9: 33100 | O9: 32100 | P9: 30900 | Q9: 30200 | R9: 29600 | S9: 28900 | T9: 28200
C10: 148800 | D10: 131700 | E10: 117700 | F10: 104900 | G10: 85700 | H10: 68000 | I10: 65100 | J10: 47300 | K10: 37000 | L10: 36000 | M10: 35500 | N10: 34800 | O10: 33700 | P10: 32400 | Q10: 31700 | R10: 31100 | S10: 30300 | T10: 29600
D11: 136300 | E11: 122500 | F11: 110200 | G11: 90000 | H11: 71400 | I11: 68300 | J11: 49700 | K11: 38800 | L11: 37700 | M11: 37300 | N11: 36500 | O11: 35400 | P11: 34000 | Q11: 33200 | R11: 32600 | S11: 31900 | T11: 31100
D12: 142400 | E12: 127400 | F12: 115700 | G12: 94500 | H12: 75000 | I12: 71700 | J12: 52200 | K12: 40800 | L12: 39600 | M12: 39100 | N12: 38300 | O12: 37200 | P12: 35700 | Q12: 34900 | R12: 34300 | S12: 33400 | T12: 32600
E13: 132400 | F13: 121500 | G13: 99200 | H13: 78700 | I13: 75300 | J13: 54800 | K13: 42800 | L13: 41600 | M13: 41100 | N13: 40200 | O13: 39000 | P13: 37500 | Q13: 36700 | R13: 36000 | S13: 35100 | T13: 34300
E14: 139700 | F14: 127600 | G14: 104200 | H14: 82700 | I14: 79100 | J14: 57500 | K14: 44900 | L14: 43700 | M14: 43200 | N14: 42300 | O14: 41000 | P14: 39400 | Q14: 38500 | R14: 37800 | S14: 36900 | T14: 36000
F15: 134000 | G15: 109400 | H15: 86800 | I15: 83000 | J15: 60400 | K15: 47200 | L15: 45900 | M15: 45300 | N15: 44400 | O15: 43000 | P15: 41300 | Q15: 40400 | R15: 39600 | S15: 38700 | T15: 37800
G16: 114900 | H16: 91100 | I16: 87200 | J16: 63400 | K16: 49500 | L16: 48200 | M16: 47600 | N16: 46600 | O16: 45200 | P16: 43400 | Q16: 42400 | R16: 41600 | S16: 40600 | T16: 39600
G17: 120600 | H17: 95700 | I17: 91500 | J17: 66600 | K17: 52000 | L17: 50600 | M17: 49900 | N17: 48900 | O17: 47400 | P17: 45600 | Q17: 44500 | R17: 43700 | S17: 42700 | T17: 41600
G18: 126800 | H18: 100500 | I18: 96100 | J18: 69900 | K18: 54600 | L18: 53100 | M18: 52400 | N18: 51300 | O18: 49800 | P18: 47900 | Q18: 46800 | R18: 45900 | S18: 44800 | T18: 43700
H19: 105500 | I19: 100900 | J19: 73400 | K19: 57300 | L19: 55700 | M19: 55100 | N19: 53900 | O19: 52300 | P19: 50200 | Q19: 49100 | R19: 48200 | S19: 47000 | T19: 45900
H20: 110800 | I20: 105900 | J20: 77300 | K20: 60500 | L20: 58700 | M20: 58000 | N20: 56800 | O20: 55200 | P20: 52900 | Q20: 51900 | R20: 50900 | S20: 49600 | T20: 48400
A24: {=INDEX(E25:E43, MATCH(TRUE, VALUE(SUBSTITUTE(E25:E43, ",", "")) >= E24, 0))} -> 44000 | B24: {=IFERROR(INDEX($I$25:$I$43, MATCH(TRUE, VALUE(SUBSTITUTE($I$25:$I$43, ",", "")) > I24, 0)), MAX(VALUE(SUBSTITUTE($I$25:$I$43, ",", ""))))} -> 46200 | C24: {=IFERROR(INDEX($M$25:$M$43, MATCH(TRUE, VALUE(SUBSTITUTE($M$25:$M$43, ",", "")) > M24, 0)), MAX(VALUE(SUBSTITUTE($M$25:$M$43, ",", ""))))} -> 48600 | E24: ='Form-A (1 to 9 Grade)'!F27 -> 44000 | I24: =A24 -> 44000 | M24: =B24 -> 46200
D25: ='Form-A (1 to 9 Grade)'!$H$4 -> Grade_9 | E25: =INDEX($A$2:$T$21, ROW(A1), MATCH(D25, $A$1:$T$1, 0)) -> 44000 | H25: ='Form-A (1 to 9 Grade)'!$H$4 -> Grade_9 | I25: =INDEX($A$2:$T$21, ROW(E1), MATCH(H25, $A$1:$T$1, 0)) -> 44000 | L25: ='Form-A (1 to 9 Grade)'!$H$4 -> Grade_9 | M25: =INDEX($A$2:$T$21, ROW(I1), MATCH(L25, $A$1:$T$1, 0)) -> 44000
D26: ='Form-A (1 to 9 Grade)'!$H$4 -> Grade_9 | E26: =INDEX($A$2:$T$21, ROW(A2), MATCH(D26, $A$1:$T$1, 0)) -> 46200 | H26: ='Form-A (1 to 9 Grade)'!$H$4 -> Grade_9 | I26: =INDEX($A$2:$T$21, ROW(E2), MATCH(H26, $A$1:$T$1, 0)) -> 46200 | L26: ='Form-A (1 to 9 Grade)'!$H$4 -> Grade_9 | M26: =INDEX($A$2:$T$21, ROW(I2), MATCH(L26, $A$1:$T$1, 0)) -> 46200
D27: ='Form-A (1 to 9 Grade)'!$H$4 -> Grade_9 | E27: =INDEX($A$2:$T$21, ROW(A3), MATCH(D27, $A$1:$T$1, 0)) -> 48600 | H27: ='Form-A (1 to 9 Grade)'!$H$4 -> Grade_9 | I27: =INDEX($A$2:$T$21, ROW(E3), MATCH(H27, $A$1:$T$1, 0)) -> 48600 | L27: ='Form-A (1 to 9 Grade)'!$H$4 -> Grade_9 | M27: =INDEX($A$2:$T$21, ROW(I3), MATCH(L27, $A$1:$T$1, 0)) -> 48600
D28: ='Form-A (1 to 9 Grade)'!$H$4 -> Grade_9 | E28: =INDEX($A$2:$T$21, ROW(A4), MATCH(D28, $A$1:$T$1, 0)) -> 51000 | H28: ='Form-A (1 to 9 Grade)'!$H$4 -> Grade_9 | I28: =INDEX($A$2:$T$21, ROW(E4), MATCH(H28, $A$1:$T$1, 0)) -> 51000 | L28: ='Form-A (1 to 9 Grade)'!$H$4 -> Grade_9 | M28: =INDEX($A$2:$T$21, ROW(I4), MATCH(L28, $A$1:$T$1, 0)) -> 51000
D29: ='Form-A (1 to 9 Grade)'!$H$4 -> Grade_9 | E29: =INDEX($A$2:$T$21, ROW(A5), MATCH(D29, $A$1:$T$1, 0)) -> 53500 | H29: ='Form-A (1 to 9 Grade)'!$H$4 -> Grade_9 | I29: =INDEX($A$2:$T$21, ROW(E5), MATCH(H29, $A$1:$T$1, 0)) -> 53500 | L29: ='Form-A (1 to 9 Grade)'!$H$4 -> Grade_9 | M29: =INDEX($A$2:$T$21, ROW(I5), MATCH(L29, $A$1:$T$1, 0)) -> 53500
D30: ='Form-A (1 to 9 Grade)'!$H$4 -> Grade_9 | E30: =INDEX($A$2:$T$21, ROW(A6), MATCH(D30, $A$1:$T$1, 0)) -> 56200 | H30: ='Form-A (1 to 9 Grade)'!$H$4 -> Grade_9 | I30: =INDEX($A$2:$T$21, ROW(E6), MATCH(H30, $A$1:$T$1, 0)) -> 56200 | L30: ='Form-A (1 to 9 Grade)'!$H$4 -> Grade_9 | M30: =INDEX($A$2:$T$21, ROW(I6), MATCH(L30, $A$1:$T$1, 0)) -> 56200
D31: ='Form-A (1 to 9 Grade)'!$H$4 -> Grade_9 | E31: =INDEX($A$2:$T$21, ROW(A7), MATCH(D31, $A$1:$T$1, 0)) -> 59000 | H31: ='Form-A (1 to 9 Grade)'!$H$4 -> Grade_9 | I31: =INDEX($A$2:$T$21, ROW(E7), MATCH(H31, $A$1:$T$1, 0)) -> 59000 | L31: ='Form-A (1 to 9 Grade)'!$H$4 -> Grade_9 | M31: =INDEX($A$2:$T$21, ROW(I7), MATCH(L31, $A$1:$T$1, 0)) -> 59000
D32: ='Form-A (1 to 9 Grade)'!$H$4 -> Grade_9 | E32: =INDEX($A$2:$T$21, ROW(A8), MATCH(D32, $A$1:$T$1, 0)) -> 62000 | H32: ='Form-A (1 to 9 Grade)'!$H$4 -> Grade_9 | I32: =INDEX($A$2:$T$21, ROW(E8), MATCH(H32, $A$1:$T$1, 0)) -> 62000 | L32: ='Form-A (1 to 9 Grade)'!$H$4 -> Grade_9 | M32: =INDEX($A$2:$T$21, ROW(I8), MATCH(L32, $A$1:$T$1, 0)) -> 62000
D33: ='Form-A (1 to 9 Grade)'!$H$4 -> Grade_9 | E33: =INDEX($A$2:$T$21, ROW(A9), MATCH(D33, $A$1:$T$1, 0)) -> 65100 | H33: ='Form-A (1 to 9 Grade)'!$H$4 -> Grade_9 | I33: =INDEX($A$2:$T$21, ROW(E9), MATCH(H33, $A$1:$T$1, 0)) -> 65100 | L33: ='Form-A (1 to 9 Grade)'!$H$4 -> Grade_9 | M33: =INDEX($A$2:$T$21, ROW(I9), MATCH(L33, $A$1:$T$1, 0)) -> 65100
D34: ='Form-A (1 to 9 Grade)'!$H$4 -> Grade_9 | E34: =INDEX($A$2:$T$21, ROW(A10), MATCH(D34, $A$1:$T$1, 0)) -> 68300 | H34: ='Form-A (1 to 9 Grade)'!$H$4 -> Grade_9 | I34: =INDEX($A$2:$T$21, ROW(E10), MATCH(H34, $A$1:$T$1, 0)) -> 68300 | L34: ='Form-A (1 to 9 Grade)'!$H$4 -> Grade_9 | M34: =INDEX($A$2:$T$21, ROW(I10), MATCH(L34, $A$1:$T$1, 0)) -> 68300
D35: ='Form-A (1 to 9 Grade)'!$H$4 -> Grade_9 | E35: =INDEX($A$2:$T$21, ROW(A11), MATCH(D35, $A$1:$T$1, 0)) -> 71700 | H35: ='Form-A (1 to 9 Grade)'!$H$4 -> Grade_9 | I35: =INDEX($A$2:$T$21, ROW(E11), MATCH(H35, $A$1:$T$1, 0)) -> 71700 | L35: ='Form-A (1 to 9 Grade)'!$H$4 -> Grade_9 | M35: =INDEX($A$2:$T$21, ROW(I11), MATCH(L35, $A$1:$T$1, 0)) -> 71700
D36: ='Form-A (1 to 9 Grade)'!$H$4 -> Grade_9 | E36: =INDEX($A$2:$T$21, ROW(A12), MATCH(D36, $A$1:$T$1, 0)) -> 75300 | H36: ='Form-A (1 to 9 Grade)'!$H$4 -> Grade_9 | I36: =INDEX($A$2:$T$21, ROW(E12), MATCH(H36, $A$1:$T$1, 0)) -> 75300 | L36: ='Form-A (1 to 9 Grade)'!$H$4 -> Grade_9 | M36: =INDEX($A$2:$T$21, ROW(I12), MATCH(L36, $A$1:$T$1, 0)) -> 75300
... D43: ='Form-A (1 to 9 Grade)'!$H$4 -> Grade_9 | E43: =INDEX($A$2:$T$21, ROW(A19), MATCH(D43, $A$1:$T$1, 0)) -> 105900 | H43: ='Form-A (1 to 9 Grade)'!$H$4 -> Grade_9 | I43: =INDEX($A$2:$T$21, ROW(E19), MATCH(H43, $A$1:$T$1, 0)) -> 105900 | L43: ='Form-A (1 to 9 Grade)'!$H$4 -> Grade_9 | M43: =INDEX($A$2:$T$21, ROW(I19), MATCH(L43, $A$1:$T$1, 0)) -> 105900

Sheet 2026 Grade list
A1: Grade_1 | B1: Grade_2 | C1: Grade_3 | D1: Grade_4 | E1: Grade_5 | F1: Grade_6 | G1: Grade_7 | H1: Grade_8 | I1: Grade_9 | J1: Grade_10 | K1: Grade_11 | L1: Grade_12 | M1: Grade_13 | N1: Grade_14 | O1: Grade_15 | P1: Grade_16 | Q1: Grade_17 | R1: Grade_18 | S1: Grade_19 | T1: Grade_20
A2: (Uv: 156000) | B2: (Uv: 132000-153000) | C2: (Uv: 113000-148800) | D2: (Uv: 100000-142400) | E2: (Uv: 86000-139700) | F2: (Uv: 71000-134000) | G2: (Uv: 58000-126800) | H2: (Uv: 46000-110800) | I2: (Uv: 44000-105900) | J2: (Uv: 32000-77300) | K2: (Uv: 25000-60500) | L2: (Uv: 24300-58700) | M2: (Uv: 24000-58000) | N2: (Uv: 23500-5680) | O2: (Uv: 22800-55200) | P2: (Uv: 21900-52900) | Q2: (Uv: 21400-51900) | R2: (Uv: 2100-50900) | S2: (Uv: 20500-49600) | T2: (Uv: 20000-48400)
A7: ='Form-A (1 to 9 Grade)'!D25 -> Grade_9 | B7: =INDEX($A$2:$T$2, ROW(A1), MATCH(A7, $A$1:$T$1, 0)) -> (Uv: 44000-105900)
D14: চট্টগ্রাম/কক্সবাজার
D15: ঢাকা
D16: হাটহাজারী/পূর্বাচল
